{
 "version": 1.0,
 "tileBundlesPath": "./tile",
 "tileInfo": {
  "spatialReference": {
   "wkid": 3879,
   "latestWkid": 3879,
   "vcsWkid": 105793,
   "latestVcsWkid": 3900
  },
  "origin": {
   "x": 19876800,
   "y": 10002100
  },
  "rows": 256,
  "cols": 256,
  "dpi": 96,
  "lods": [
   {
    "level": 0,
    "resolution": 529.1677250021168,
    "scale": 2000000.0000000002
   },
   {
    "level": 1,
    "resolution": 264.5838625010584,
    "scale": 1000000.0000000001
   },
   {
    "level": 2,
    "resolution": 132.2919312505292,
    "scale": 500000.00000000006
   },
   {
    "level": 3,
    "resolution": 66.1459656252646,
    "scale": 250000.00000000003
   },
   {
    "level": 4,
    "resolution": 33.0729828126323,
    "scale": 125000.00000000001
   },
   {
    "level": 5,
    "resolution": 16.53649140631615,
    "scale": 62500.00000000001
   },
   {
    "level": 6,
    "resolution": 8.268245703158074,
    "scale": 31250.000000000004
   },
   {
    "level": 7,
    "resolution": 4.134122851579037,
    "scale": 15625.000000000002
   },
   {
    "level": 8,
    "resolution": 2.0670614257895186,
    "scale": 7812.500000000001
   },
   {
    "level": 9,
    "resolution": 1.0335307128947593,
    "scale": 3906.2500000000005
   }
  ],
  "format": "MIXED",
  "compressionQuality": 75,
  "bandCount": 1,
  "lercError": 0,
  "storageFormat": "esriMapCacheStorageModeCompactV2",
  "packetSize": 128
 },
 "storageInfo": {
  "packetSize": 128,
  "storageFormat": "esriMapCacheStorageModeCompactV2"
 },
 "tileImageInfo": {
  "format": "MIXED",
  "compressionQuality": 75,
  "bandCount": 1,
  "lercError": 0
 },
 "name": "JHS_Malli_exp",
 "minLOD": 3,
 "maxLOD": 9,
 "spatialReference": {
  "wkid": 3879,
  "latestWkid": 3879,
  "vcsWkid": 105793,
  "latestVcsWkid": 3900
 },
 "units": "esriMeters",
 "serviceDescription": "",
 "resampling": true,
 "initialExtent": {
  "xmin": 2.5502118534165714E7,
  "ymin": 6703425.499005164,
  "xmax": 2.550930053908962E7,
  "ymax": 6711651.369949093,
  "spatialReference": {
   "wkid": 3879,
   "latestWkid": 3879,
   "vcsWkid": 105793,
   "latestVcsWkid": 3900
  }
 },
 "fullExtent": {
  "xmin": 2.5502118534165714E7,
  "ymin": 6703425.499005164,
  "xmax": 2.550930053908962E7,
  "ymax": 6711651.369949093,
  "spatialReference": {
   "wkid": 3879,
   "latestWkid": 3879,
   "vcsWkid": 105793,
   "latestVcsWkid": 3900
  }
 },
 "minScale": 250000,
 "maxScale": 3906,
 "exportTilesAllowed": false,
 "maxExportTilesCount": 0,
 "currentVersion": 11.1,
 "mapName": "JHS_Malli_exp",
 "singleFusedMapCache": true,
 "type": "MapServer",
 "supportedExtensions": "",
 "capabilities": "TilesOnly,Tilemap",
 "serviceItemId": "65340e85dd14441f8191b353b6ecc0ba"
}
