{
 "currentVersion": 11.5,
 "cimVersion": "3.5.0",
 "serviceDescription": "",
 "mapName": "Järvenpää_opaskartta_2026",
 "description": "",
 "copyrightText": "",
 "supportsDynamicLayers": true,
 "layers": [
  {
   "id": 0,
   "name": "Järvenpää_opaskartta_2026",
   "parentLayerId": -1,
   "defaultVisibility": true,
   "subLayerIds": [
    1,
    25,
    10,
    11,
    12,
    13,
    31,
    15,
    16
   ],
   "minScale": 0,
   "maxScale": 0,
   "type": "Group Layer",
   "supportsDynamicLegends": false
  },
  {
   "id": 1,
   "name": "opas_tekstit",
   "parentLayerId": 0,
   "defaultVisibility": true,
   "subLayerIds": [
    2,
    5,
    6
   ],
   "minScale": 0,
   "maxScale": 0,
   "type": "Group Layer",
   "supportsDynamicLegends": false
  },
  {
   "id": 2,
   "name": "opas_anno_nimisto",
   "parentLayerId": 1,
   "defaultVisibility": true,
   "subLayerIds": [
    3,
    4
   ],
   "minScale": 0,
   "maxScale": 0,
   "type": "Annotation Layer",
   "geometryType": "esriGeometryPolygon",
   "supportsDynamicLegends": false
  },
  {
   "id": 3,
   "name": "01_rakennukset",
   "parentLayerId": 2,
   "defaultVisibility": true,
   "subLayerIds": null,
   "minScale": 0,
   "maxScale": 0,
   "supportsDynamicLegends": false
  },
  {
   "id": 4,
   "name": "02_nimisto_suuri",
   "parentLayerId": 2,
   "defaultVisibility": true,
   "subLayerIds": null,
   "minScale": 0,
   "maxScale": 0,
   "supportsDynamicLegends": false
  },
  {
   "id": 5,
   "name": "opas_anno_kadun_nimet",
   "parentLayerId": 1,
   "defaultVisibility": true,
   "subLayerIds": [
    26,
    7,
    8,
    9
   ],
   "minScale": 25000,
   "maxScale": 0,
   "type": "Annotation Layer",
   "geometryType": "esriGeometryPolygon",
   "supportsDynamicLegends": false
  },
  {
   "id": 26,
   "name": "01_Polku_tai_kuja",
   "parentLayerId": 5,
   "defaultVisibility": true,
   "subLayerIds": null,
   "minScale": 0,
   "maxScale": 0,
   "supportsDynamicLegends": false
  },
  {
   "id": 7,
   "name": "02_Yksityistie",
   "parentLayerId": 5,
   "defaultVisibility": true,
   "subLayerIds": null,
   "minScale": 0,
   "maxScale": 0,
   "supportsDynamicLegends": false
  },
  {
   "id": 8,
   "name": "03_Katu",
   "parentLayerId": 5,
   "defaultVisibility": true,
   "subLayerIds": null,
   "minScale": 0,
   "maxScale": 0,
   "supportsDynamicLegends": false
  },
  {
   "id": 9,
   "name": "04_Katu_suuri",
   "parentLayerId": 5,
   "defaultVisibility": true,
   "subLayerIds": null,
   "minScale": 0,
   "maxScale": 0,
   "supportsDynamicLegends": false
  },
  {
   "id": 6,
   "name": "opas_anno_paikannimet",
   "parentLayerId": 1,
   "defaultVisibility": true,
   "subLayerIds": [
    27,
    28,
    29,
    14,
    32
   ],
   "minScale": 0,
   "maxScale": 0,
   "type": "Annotation Layer",
   "geometryType": "esriGeometryPolygon",
   "supportsDynamicLegends": false
  },
  {
   "id": 27,
   "name": "01_paikan_nimi_pieni",
   "parentLayerId": 6,
   "defaultVisibility": true,
   "subLayerIds": null,
   "minScale": 0,
   "maxScale": 0,
   "supportsDynamicLegends": false
  },
  {
   "id": 28,
   "name": "02_paikan_nimi_keskikoko",
   "parentLayerId": 6,
   "defaultVisibility": true,
   "subLayerIds": null,
   "minScale": 0,
   "maxScale": 0,
   "supportsDynamicLegends": false
  },
  {
   "id": 29,
   "name": "03_paikan_nimi_suuri",
   "parentLayerId": 6,
   "defaultVisibility": true,
   "subLayerIds": null,
   "minScale": 0,
   "maxScale": 0,
   "supportsDynamicLegends": false
  },
  {
   "id": 14,
   "name": "05_kaupunginosa",
   "parentLayerId": 6,
   "defaultVisibility": true,
   "subLayerIds": null,
   "minScale": 0,
   "maxScale": 0,
   "supportsDynamicLegends": false
  },
  {
   "id": 32,
   "name": "05_kaupunginosa",
   "parentLayerId": 6,
   "defaultVisibility": true,
   "subLayerIds": null,
   "minScale": 0,
   "maxScale": 0,
   "supportsDynamicLegends": false
  },
  {
   "id": 25,
   "name": "opas_symboli_pisteet",
   "parentLayerId": 0,
   "defaultVisibility": true,
   "subLayerIds": null,
   "minScale": 0,
   "maxScale": 0,
   "type": "Feature Layer",
   "geometryType": "esriGeometryPoint",
   "supportsDynamicLegends": true
  },
  {
   "id": 10,
   "name": "opas_kuntaraja_viiva",
   "parentLayerId": 0,
   "defaultVisibility": true,
   "subLayerIds": null,
   "minScale": 0,
   "maxScale": 0,
   "type": "Feature Layer",
   "geometryType": "esriGeometryPolyline",
   "supportsDynamicLegends": true
  },
  {
   "id": 11,
   "name": "opas_kiertoliittymä_alueet",
   "parentLayerId": 0,
   "defaultVisibility": true,
   "subLayerIds": null,
   "minScale": 0,
   "maxScale": 0,
   "type": "Feature Layer",
   "geometryType": "esriGeometryPolygon",
   "supportsDynamicLegends": true
  },
  {
   "id": 12,
   "name": "opas_tiestö_viivat",
   "parentLayerId": 0,
   "defaultVisibility": true,
   "subLayerIds": null,
   "minScale": 0,
   "maxScale": 0,
   "type": "Feature Layer",
   "geometryType": "esriGeometryPolyline",
   "supportsDynamicLegends": true
  },
  {
   "id": 13,
   "name": "opas_ojat_viivat",
   "parentLayerId": 0,
   "defaultVisibility": true,
   "subLayerIds": null,
   "minScale": 0,
   "maxScale": 0,
   "type": "Feature Layer",
   "geometryType": "esriGeometryPolyline",
   "supportsDynamicLegends": true
  },
  {
   "id": 31,
   "name": "opas_rakennukset_alueet",
   "parentLayerId": 0,
   "defaultVisibility": true,
   "subLayerIds": null,
   "minScale": 0,
   "maxScale": 0,
   "type": "Feature Layer",
   "geometryType": "esriGeometryPolygon",
   "supportsDynamicLegends": true
  },
  {
   "id": 15,
   "name": "opas_maankäyttö-alueet",
   "parentLayerId": 0,
   "defaultVisibility": true,
   "subLayerIds": null,
   "minScale": 0,
   "maxScale": 0,
   "type": "Feature Layer",
   "geometryType": "esriGeometryPolygon",
   "supportsDynamicLegends": true
  },
  {
   "id": 16,
   "name": "opas_tausta_alue",
   "parentLayerId": 0,
   "defaultVisibility": true,
   "subLayerIds": null,
   "minScale": 0,
   "maxScale": 0,
   "type": "Feature Layer",
   "geometryType": "esriGeometryPolygon",
   "supportsDynamicLegends": true
  }
 ],
 "tables": [],
 "spatialReference": {
  "wkid": 3879,
  "latestWkid": 3879,
  "xyTolerance": 0.001,
  "zTolerance": 0.001,
  "mTolerance": 0.001,
  "falseX": 19876800,
  "falseY": -10002100,
  "xyUnits": 10000,
  "falseZ": -100000,
  "zUnits": 10000,
  "falseM": -100000,
  "mUnits": 10000
 },
 "singleFusedMapCache": true,
 "tileInfo": {
  "rows": 256,
  "cols": 256,
  "dpi": 96,
  "format": "PNG",
  "compressionQuality": 0,
  "origin": {
   "x": 1.5498035270771967E7,
   "y": 1.0001964729228033E7
  },
  "spatialReference": {
   "wkid": 3879,
   "latestWkid": 3879,
   "xyTolerance": 0.001,
   "zTolerance": 0.001,
   "mTolerance": 0.001,
   "falseX": 19876800,
   "falseY": -10002100,
   "xyUnits": 10000,
   "falseZ": -100000,
   "zUnits": 10000,
   "falseM": -100000,
   "mUnits": 10000
  },
  "lods": [
   {
    "level": 0,
    "resolution": 78140.349447094,
    "scale": 2.953336042094891E8
   },
   {
    "level": 1,
    "resolution": 39070.174723547,
    "scale": 1.4766680210474455E8
   },
   {
    "level": 2,
    "resolution": 19535.0873617735,
    "scale": 7.383340105237228E7
   },
   {
    "level": 3,
    "resolution": 9767.54368088675,
    "scale": 3.691670052618614E7
   },
   {
    "level": 4,
    "resolution": 4883.771840443375,
    "scale": 1.845835026309307E7
   },
   {
    "level": 5,
    "resolution": 2441.8859202216877,
    "scale": 9229175.131546535
   },
   {
    "level": 6,
    "resolution": 1220.9429601108438,
    "scale": 4614587.565773267
   },
   {
    "level": 7,
    "resolution": 610.4714800554219,
    "scale": 2307293.7828866336
   },
   {
    "level": 8,
    "resolution": 305.23574002771096,
    "scale": 1153646.8914433168
   },
   {
    "level": 9,
    "resolution": 152.61787001385548,
    "scale": 576823.4457216584
   },
   {
    "level": 10,
    "resolution": 76.30893500692774,
    "scale": 288411.7228608292
   },
   {
    "level": 11,
    "resolution": 38.15446750346387,
    "scale": 144205.8614304146
   },
   {
    "level": 12,
    "resolution": 19.077233751731935,
    "scale": 72102.9307152073
   },
   {
    "level": 13,
    "resolution": 9.538616875865968,
    "scale": 36051.46535760365
   },
   {
    "level": 14,
    "resolution": 4.769308437932984,
    "scale": 18025.732678801825
   },
   {
    "level": 15,
    "resolution": 2.384654218966492,
    "scale": 9012.866339400913
   },
   {
    "level": 16,
    "resolution": 1.192327109483246,
    "scale": 4506.433169700456
   },
   {
    "level": 17,
    "resolution": 0.596163554741623,
    "scale": 2253.216584850228
   },
   {
    "level": 18,
    "resolution": 0.2980817773708115,
    "scale": 1126.608292425114
   },
   {
    "level": 19,
    "resolution": 0.14904088868540574,
    "scale": 563.304146212557
   },
   {
    "level": 20,
    "resolution": 0.07452044434270287,
    "scale": 281.6520731062785
   },
   {
    "level": 21,
    "resolution": 0.037260222171351436,
    "scale": 140.82603655313926
   },
   {
    "level": 22,
    "resolution": 0.018630111085675718,
    "scale": 70.41301827656963
   },
   {
    "level": 23,
    "resolution": 0.009315055542837859,
    "scale": 35.206509138284815
   }
  ]
 },
 "storageInfo": {
  "storageFormat": "esriMapCacheStorageModeCompactV2",
  "packetSize": 128
 },
 "initialExtent": {
  "xmin": 2.5504790973200034E7,
  "ymin": 6704318.634561053,
  "xmax": 2.5506647924916033E7,
  "ymax": 6705683.6898096595,
  "spatialReference": {
   "wkid": 3879,
   "latestWkid": 3879,
   "xyTolerance": 0.001,
   "zTolerance": 0.001,
   "mTolerance": 0.001,
   "falseX": 19876800,
   "falseY": -10002100,
   "xyUnits": 10000,
   "falseZ": -100000,
   "zUnits": 10000,
   "falseM": -100000,
   "mUnits": 10000
  }
 },
 "fullExtent": {
  "xmin": 2.55001068784296E7,
  "ymin": 6699560.534812897,
  "xmax": 2.5511888882073406E7,
  "ymax": 6718340.275169035,
  "zmin": 0,
  "zmax": 0,
  "spatialReference": {
   "wkid": 3879,
   "latestWkid": 3879,
   "xyTolerance": 0.001,
   "zTolerance": 0.001,
   "mTolerance": 0.001,
   "falseX": 19876800,
   "falseY": -10002100,
   "xyUnits": 10000,
   "falseZ": -100000,
   "zUnits": 10000,
   "falseM": -100000,
   "mUnits": 10000
  }
 },
 "datesInUnknownTimezone": false,
 "minScale": 144205.8614304146,
 "maxScale": 281.6520731062785,
 "minLOD": 11,
 "maxLOD": 20,
 "units": "esriMeters",
 "supportedImageFormatTypes": "PNG32,PNG24,PNG,JPG,DIB,TIFF,EMF,PS,PDF,GIF,SVG,SVGZ,BMP",
 "documentInfo": {
  "Title": "Jarvenpaa_online_taustakartta",
  "Author": "",
  "Comments": "",
  "Subject": "",
  "Category": "",
  "Version": "3.5.0",
  "AntialiasingMode": "Fast",
  "TextAntialiasingMode": "Force",
  "Keywords": "Järvenpää_opaskartta_2026,MapServer"
 },
 "supportsQueryDomains": true,
 "capabilities": "Map,Query,Data,TileMap",
 "supportedQueryFormats": "JSON, geoJSON, PBF",
 "exportTilesAllowed": false,
 "referenceScale": 10000.0,
 "datumTransformations": [
  {
   "geoTransforms": [
    {
     "wkid": 1149,
     "latestWkid": 1149,
     "transformForward": false,
     "name": "ETRS_1989_To_WGS_1984"
    }
   ]
  },
  {
   "geoTransforms": [
    {
     "wkid": 1149,
     "latestWkid": 1149,
     "transformForward": true,
     "name": "ETRS_1989_To_WGS_1984"
    }
   ]
  },
  {
   "geoTransforms": [
    {
     "wkid": 108226,
     "latestWkid": 108226,
     "transformForward": true,
     "name": "EUREF_FIN_To_ETRS_1989"
    }
   ]
  },
  {
   "geoTransforms": [
    {
     "wkid": 108226,
     "latestWkid": 108226,
     "transformForward": false,
     "name": "EUREF_FIN_To_ETRS_1989"
    }
   ]
  }
 ],
 "supportsDatumTransformation": true,
 "floorAwareMapProperties": {
  "defaultFloorFilterSettings": {
   "isEnabled": false
  }
 },
 "archivingInfo": {
  "supportsHistoricMoment": false
 },
 "supportsClipping": true,
 "supportsSpatialFilter": true,
 "supportsTimeRelation": true,
 "supportsQueryDataElements": true,
 "mapUnits": {
  "uwkid": 9001
 },
 "maxSelectionCount": 2000,
 "maxRecordCount": 8000,
 "maxImageHeight": 4096,
 "maxImageWidth": 4096,
 "supportedExtensions": "WMSServer",
 "resampling": false,
 "serviceItemId": "397bc710d2c540b8ba2a0ac4a0817ba3"
}
