{
 "currentVersion": 11.5,
 "serviceDescription": "JarvenpaaRajapinnat/Keskustan_alueen_ilmakuva_1966",
 "serviceItemId": "999bf9b3ea574abb86a9e760f6dbc7d9",
 "name": "JarvenpaaRajapinnat/Keskustan_alueen_ilmakuva_1966",
 "description": "",
 "extent": {
  "xmin": 2.5504019377635367E7,
  "ymin": 6705763.121411504,
  "xmax": 2.550599617014782E7,
  "ymax": 6707776.871327378,
  "spatialReference": {
   "wkid": 3879,
   "latestWkid": 3879
  }
 },
 "initialExtent": {
  "xmin": 2.5504019377635367E7,
  "ymin": 6705763.121411504,
  "xmax": 2.550599617014782E7,
  "ymax": 6707776.871327378,
  "spatialReference": {
   "wkid": 3879,
   "latestWkid": 3879
  }
 },
 "fullExtent": {
  "xmin": 2.5504019377635367E7,
  "ymin": 6705763.121411504,
  "xmax": 2.550599617014782E7,
  "ymax": 6707776.871327378,
  "spatialReference": {
   "wkid": 3879,
   "latestWkid": 3879
  }
 },
 "sortableFields": "",
 "bandCount": 1,
 "pixelType": "U8",
 "minValues": [
  0
 ],
 "maxValues": [
  255
 ],
 "meanValues": [
  136.76004878324443
 ],
 "stdvValues": [
  50.55850713871679
 ],
 "serviceProperties": "Center<\/MosaicMethod>First<\/MosaicOperator>true<\/SortAscending><\/LockImageID><\/TileOrderField>0<\/TileOrderBase>0,000000<\/AvgImageSpacingX>0,000000<\/AvgImageSpacingY>0.0<\/ViewPointX>0.0<\/ViewPointY>0.0<\/ViewPointDefShiftX>0.0<\/ViewPointDefShiftY>None<\/CompressionMethod>75<\/CompressionQuality>0,010000<\/CompressionTolerance>Bilinear<\/SamplingMethod><\/ImageServiceProperties><\/ImageServer>",
 "allowedFields": "",
 "hasMultidimensions": false,
 "pixelSizeX": 0.17189500108296457,
 "pixelSizeY": 0.1718949992209673,
 "meanPixelSize": 0.17189500015196593,
 "datasetFormat": "FGDBR",
 "uncompressedSize": 134722500,
 "blockWidth": 128,
 "blockHeight": 128,
 "compressionType": "LZ77",
 "bandNames": [
  "Band_1"
 ],
 "allowCopy": true,
 "allowAnalysis": true,
 "itemAccess": false,
 "inspectionCapabilities": "",
 "minPixelSize": 0.037260222171351436,
 "maxPixelSize": 9.538616875865968,
 "copyrightText": "",
 "serviceDataType": "esriImageServiceDataTypeGeneric",
 "serviceSourceType": "esriImageServiceSourceTypeDataset",
 "objectIdField": "",
 "fields": [],
 "capabilities": "Image,Metadata,Mensuration,TileMap",
 "defaultMosaicMethod": "Center",
 "allowedMosaicMethods": "",
 "sortField": "",
 "sortValue": null,
 "sortAscending": true,
 "mosaicOperator": "First",
 "defaultCompressionQuality": 75,
 "defaultResamplingMethod": "Bilinear",
 "maxImageHeight": 4100,
 "maxImageWidth": 15000,
 "singleFusedMapCache": true,
 "tileInfo": {
  "rows": 256,
  "cols": 256,
  "dpi": 96,
  "format": "PNG",
  "compressionQuality": 0,
  "origin": {
   "x": 1.5498035270771967E7,
   "y": 1.0001964729228033E7
  },
  "spatialReference": {
   "wkid": 3879,
   "latestWkid": 3879
  },
  "lods": [
   {
    "level": 0,
    "resolution": 78140.349447094,
    "scale": 2.953336042094891E8
   },
   {
    "level": 1,
    "resolution": 39070.174723547,
    "scale": 1.4766680210474455E8
   },
   {
    "level": 2,
    "resolution": 19535.0873617735,
    "scale": 7.383340105237228E7
   },
   {
    "level": 3,
    "resolution": 9767.54368088675,
    "scale": 3.691670052618614E7
   },
   {
    "level": 4,
    "resolution": 4883.771840443375,
    "scale": 1.845835026309307E7
   },
   {
    "level": 5,
    "resolution": 2441.8859202216877,
    "scale": 9229175.131546535
   },
   {
    "level": 6,
    "resolution": 1220.9429601108438,
    "scale": 4614587.565773267
   },
   {
    "level": 7,
    "resolution": 610.4714800554219,
    "scale": 2307293.7828866336
   },
   {
    "level": 8,
    "resolution": 305.23574002771096,
    "scale": 1153646.8914433168
   },
   {
    "level": 9,
    "resolution": 152.61787001385548,
    "scale": 576823.4457216584
   },
   {
    "level": 10,
    "resolution": 76.30893500692774,
    "scale": 288411.7228608292
   },
   {
    "level": 11,
    "resolution": 38.15446750346387,
    "scale": 144205.8614304146
   },
   {
    "level": 12,
    "resolution": 19.077233751731935,
    "scale": 72102.9307152073
   },
   {
    "level": 13,
    "resolution": 9.538616875865968,
    "scale": 36051.46535760365
   },
   {
    "level": 14,
    "resolution": 4.769308437932984,
    "scale": 18025.732678801825
   },
   {
    "level": 15,
    "resolution": 2.384654218966492,
    "scale": 9012.866339400913
   },
   {
    "level": 16,
    "resolution": 1.192327109483246,
    "scale": 4506.433169700456
   },
   {
    "level": 17,
    "resolution": 0.596163554741623,
    "scale": 2253.216584850228
   },
   {
    "level": 18,
    "resolution": 0.2980817773708115,
    "scale": 1126.608292425114
   },
   {
    "level": 19,
    "resolution": 0.14904088868540574,
    "scale": 563.304146212557
   },
   {
    "level": 20,
    "resolution": 0.07452044434270287,
    "scale": 281.6520731062785
   },
   {
    "level": 21,
    "resolution": 0.037260222171351436,
    "scale": 140.82603655313926
   },
   {
    "level": 22,
    "resolution": 0.018630111085675718,
    "scale": 70.41301827656963
   },
   {
    "level": 23,
    "resolution": 0.009315055542837859,
    "scale": 35.206509138284815
   }
  ]
 },
 "storageInfo": {
  "storageFormat": "esriMapCacheStorageModeCompactV2",
  "packetSize": 128
 },
 "cacheType": "Map",
 "allowRasterFunction": true,
 "rasterFunctionInfos": [
  {
   "name": "None",
   "description": "",
   "help": ""
  }
 ],
 "rasterTypeInfos": [
  {
   "name": "Raster Dataset",
   "description": "Supports all ArcGIS Raster Datasets",
   "help": ""
  }
 ],
 "mensurationCapabilities": "Basic",
 "hasHistograms": true,
 "hasColormap": false,
 "hasRasterAttributeTable": false,
 "minScale": 36051.46535760365,
 "maxScale": 140.82603655313926,
 "minLOD": 13,
 "maxLOD": 21,
 "exportTilesAllowed": false,
 "supportsStatistics": false,
 "supportsAdvancedQueries": false,
 "editFieldsInfo": null,
 "ownershipBasedAccessControlForRasters": null,
 "allowComputeTiePoints": false,
 "useStandardizedQueries": true,
 "advancedQueryCapabilities": {
  "useStandardizedQueries": true,
  "supportsStatistics": false,
  "supportsOrderBy": false,
  "supportsDistinct": false,
  "supportsPagination": false
 },
 "spatialReference": {
  "wkid": 3879,
  "latestWkid": 3879
 }
}
