<?xml version="1.0" encoding="UTF-8"?>
<Capabilities xmlns="http://www.opengis.net/wmts/1.0"
xmlns:ows="http://www.opengis.net/ows/1.1"
xmlns:xlink="http://www.w3.org/1999/xlink"
xmlns:xsi="http://www.w3.org/2001/XMLSchema-instance"
xmlns:gml="http://www.opengis.net/gml"
xsi:schemaLocation="http://www.opengis.net/wmts/1.0 http://schemas.opengis.net/wmts/1.0/wmtsGetCapabilities_response.xsd"
version="1.0.0">
<!-- Service Identification --> <ows:ServiceIdentification>
<ows:Title>JarvenpaaRajapinnat_Opaskartta_1989</ows:Title>
<ows:ServiceType>OGC WMTS</ows:ServiceType>
<ows:ServiceTypeVersion>1.0.0</ows:ServiceTypeVersion>
</ows:ServiceIdentification> <!-- Operations Metadata --> <ows:OperationsMetadata>
<ows:Operation name="GetCapabilities">
<ows:DCP>
<ows:HTTP>
<ows:Get xlink:href="https://rajapinta.jarvenpaa.fi/arcgis/rest/services/JarvenpaaRajapinnat/Opaskartta_1989/MapServer/WMTS/1.0.0/WMTSCapabilities.xml">
<ows:Constraint name="GetEncoding">
<ows:AllowedValues>
<ows:Value>RESTful</ows:Value>
</ows:AllowedValues>
</ows:Constraint>
</ows:Get>
<!-- add KVP binding in 10.1 -->
<ows:Get xlink:href="https://rajapinta.jarvenpaa.fi/arcgis/rest/services/JarvenpaaRajapinnat/Opaskartta_1989/MapServer/WMTS?">
<ows:Constraint name="GetEncoding">
<ows:AllowedValues>
<ows:Value>KVP</ows:Value>
</ows:AllowedValues>
</ows:Constraint>
</ows:Get>
</ows:HTTP>
</ows:DCP>
</ows:Operation>
<ows:Operation name="GetTile">
<ows:DCP>
<ows:HTTP>
<ows:Get xlink:href="https://rajapinta.jarvenpaa.fi/arcgis/rest/services/JarvenpaaRajapinnat/Opaskartta_1989/MapServer/WMTS/tile/1.0.0/">
<ows:Constraint name="GetEncoding">
<ows:AllowedValues>
<ows:Value>RESTful</ows:Value>
</ows:AllowedValues>
</ows:Constraint>
</ows:Get>
<ows:Get xlink:href="https://rajapinta.jarvenpaa.fi/arcgis/rest/services/JarvenpaaRajapinnat/Opaskartta_1989/MapServer/WMTS?">
<ows:Constraint name="GetEncoding">
<ows:AllowedValues>
<ows:Value>KVP</ows:Value>
</ows:AllowedValues>
</ows:Constraint>
</ows:Get>
</ows:HTTP>
</ows:DCP>
</ows:Operation>
</ows:OperationsMetadata> <Contents>
<!--Layer--> <Layer>
<ows:Title>JarvenpaaRajapinnat_Opaskartta_1989</ows:Title> <ows:Identifier>JarvenpaaRajapinnat_Opaskartta_1989</ows:Identifier>
<ows:BoundingBox crs="urn:ogc:def:crs:EPSG::3879">
<ows:LowerCorner>6700292.95382649 2.5500204987781893E7</ows:LowerCorner>
<ows:UpperCorner>6712441.713813284 2.550942321605584E7</ows:UpperCorner>
</ows:BoundingBox> <ows:WGS84BoundingBox crs="urn:ogc:def:crs:OGC:2:84">
<ows:LowerCorner>25.003720291118324 60.41473384934108</ows:LowerCorner>
<ows:UpperCorner>25.17159457061256 60.52387906101718</ows:UpperCorner>
</ows:WGS84BoundingBox>
<Style isDefault="true">
<ows:Title>Default Style</ows:Title>
<ows:Identifier>default</ows:Identifier>
</Style>
<Format>image/jpgpng</Format>
<TileMatrixSetLink>
<TileMatrixSet>default028mm</TileMatrixSet>
</TileMatrixSetLink>
<ResourceURL format="image/jpgpng" resourceType="tile" template="https://rajapinta.jarvenpaa.fi/arcgis/rest/services/JarvenpaaRajapinnat/Opaskartta_1989/MapServer/WMTS/tile/1.0.0/JarvenpaaRajapinnat_Opaskartta_1989/{Style}/{TileMatrixSet}/{TileMatrix}/{TileRow}/{TileCol}" />
</Layer> <!--TileMatrixSet-->
<TileMatrixSet>
<ows:Title>TileMatrix using 0.28mm</ows:Title>
<ows:Abstract>The tile matrix set that has scale values calculated based on the dpi defined by OGC specification (dpi assumes 0.28mm as the physical distance of a pixel).</ows:Abstract> <ows:Identifier>default028mm</ows:Identifier>
<ows:SupportedCRS>urn:ogc:def:crs:EPSG::3879</ows:SupportedCRS>
<TileMatrix>
<ows:Identifier>0</ows:Identifier>
<ScaleDenominator>2.790726765967292E8</ScaleDenominator>
<TopLeftCorner>1.0001964729228033E7 1.5498035270771967E7</TopLeftCorner> <TileWidth>256</TileWidth> <TileHeight>256</TileHeight>
<MatrixWidth>1</MatrixWidth> <MatrixHeight>1</MatrixHeight>
</TileMatrix>
<TileMatrix>
<ows:Identifier>1</ows:Identifier>
<ScaleDenominator>1.395363382983646E8</ScaleDenominator>
<TopLeftCorner>1.0001964729228033E7 1.5498035270771967E7</TopLeftCorner> <TileWidth>256</TileWidth> <TileHeight>256</TileHeight>
<MatrixWidth>2</MatrixWidth> <MatrixHeight>1</MatrixHeight>
</TileMatrix>
<TileMatrix>
<ows:Identifier>2</ows:Identifier>
<ScaleDenominator>6.97681691491823E7</ScaleDenominator>
<TopLeftCorner>1.0001964729228033E7 1.5498035270771967E7</TopLeftCorner> <TileWidth>256</TileWidth> <TileHeight>256</TileHeight>
<MatrixWidth>3</MatrixWidth> <MatrixHeight>1</MatrixHeight>
</TileMatrix>
<TileMatrix>
<ows:Identifier>3</ows:Identifier>
<ScaleDenominator>3.488408457459115E7</ScaleDenominator>
<TopLeftCorner>1.0001964729228033E7 1.5498035270771967E7</TopLeftCorner> <TileWidth>256</TileWidth> <TileHeight>256</TileHeight>
<MatrixWidth>5</MatrixWidth> <MatrixHeight>2</MatrixHeight>
</TileMatrix>
<TileMatrix>
<ows:Identifier>4</ows:Identifier>
<ScaleDenominator>1.7442042287295576E7</ScaleDenominator>
<TopLeftCorner>1.0001964729228033E7 1.5498035270771967E7</TopLeftCorner> <TileWidth>256</TileWidth> <TileHeight>256</TileHeight>
<MatrixWidth>9</MatrixWidth> <MatrixHeight>3</MatrixHeight>
</TileMatrix>
<TileMatrix>
<ows:Identifier>5</ows:Identifier>
<ScaleDenominator>8721021.143647788</ScaleDenominator>
<TopLeftCorner>1.0001964729228033E7 1.5498035270771967E7</TopLeftCorner> <TileWidth>256</TileWidth> <TileHeight>256</TileHeight>
<MatrixWidth>17</MatrixWidth> <MatrixHeight>6</MatrixHeight>
</TileMatrix>
<TileMatrix>
<ows:Identifier>6</ows:Identifier>
<ScaleDenominator>4360510.571823894</ScaleDenominator>
<TopLeftCorner>1.0001964729228033E7 1.5498035270771967E7</TopLeftCorner> <TileWidth>256</TileWidth> <TileHeight>256</TileHeight>
<MatrixWidth>33</MatrixWidth> <MatrixHeight>11</MatrixHeight>
</TileMatrix>
<TileMatrix>
<ows:Identifier>7</ows:Identifier>
<ScaleDenominator>2180255.285911947</ScaleDenominator>
<TopLeftCorner>1.0001964729228033E7 1.5498035270771967E7</TopLeftCorner> <TileWidth>256</TileWidth> <TileHeight>256</TileHeight>
<MatrixWidth>65</MatrixWidth> <MatrixHeight>22</MatrixHeight>
</TileMatrix>
<TileMatrix>
<ows:Identifier>8</ows:Identifier>
<ScaleDenominator>1090127.6429559735</ScaleDenominator>
<TopLeftCorner>1.0001964729228033E7 1.5498035270771967E7</TopLeftCorner> <TileWidth>256</TileWidth> <TileHeight>256</TileHeight>
<MatrixWidth>129</MatrixWidth> <MatrixHeight>43</MatrixHeight>
</TileMatrix>
<TileMatrix>
<ows:Identifier>9</ows:Identifier>
<ScaleDenominator>545063.8214779868</ScaleDenominator>
<TopLeftCorner>1.0001964729228033E7 1.5498035270771967E7</TopLeftCorner> <TileWidth>256</TileWidth> <TileHeight>256</TileHeight>
<MatrixWidth>257</MatrixWidth> <MatrixHeight>85</MatrixHeight>
</TileMatrix>
<TileMatrix>
<ows:Identifier>10</ows:Identifier>
<ScaleDenominator>272531.9107389934</ScaleDenominator>
<TopLeftCorner>1.0001964729228033E7 1.5498035270771967E7</TopLeftCorner> <TileWidth>256</TileWidth> <TileHeight>256</TileHeight>
<MatrixWidth>513</MatrixWidth> <MatrixHeight>170</MatrixHeight>
</TileMatrix>
<TileMatrix>
<ows:Identifier>11</ows:Identifier>
<ScaleDenominator>136265.9553694967</ScaleDenominator>
<TopLeftCorner>1.0001964729228033E7 1.5498035270771967E7</TopLeftCorner> <TileWidth>256</TileWidth> <TileHeight>256</TileHeight>
<MatrixWidth>1025</MatrixWidth> <MatrixHeight>339</MatrixHeight>
</TileMatrix>
<TileMatrix>
<ows:Identifier>12</ows:Identifier>
<ScaleDenominator>68132.97768474834</ScaleDenominator>
<TopLeftCorner>1.0001964729228033E7 1.5498035270771967E7</TopLeftCorner> <TileWidth>256</TileWidth> <TileHeight>256</TileHeight>
<MatrixWidth>2050</MatrixWidth> <MatrixHeight>677</MatrixHeight>
</TileMatrix>
<TileMatrix>
<ows:Identifier>13</ows:Identifier>
<ScaleDenominator>34066.48884237417</ScaleDenominator>
<TopLeftCorner>1.0001964729228033E7 1.5498035270771967E7</TopLeftCorner> <TileWidth>256</TileWidth> <TileHeight>256</TileHeight>
<MatrixWidth>4100</MatrixWidth> <MatrixHeight>1353</MatrixHeight>
</TileMatrix>
<TileMatrix>
<ows:Identifier>14</ows:Identifier>
<ScaleDenominator>17033.244421187086</ScaleDenominator>
<TopLeftCorner>1.0001964729228033E7 1.5498035270771967E7</TopLeftCorner> <TileWidth>256</TileWidth> <TileHeight>256</TileHeight>
<MatrixWidth>8200</MatrixWidth> <MatrixHeight>2705</MatrixHeight>
</TileMatrix>
<TileMatrix>
<ows:Identifier>15</ows:Identifier>
<ScaleDenominator>8516.622210593543</ScaleDenominator>
<TopLeftCorner>1.0001964729228033E7 1.5498035270771967E7</TopLeftCorner> <TileWidth>256</TileWidth> <TileHeight>256</TileHeight>
<MatrixWidth>16400</MatrixWidth> <MatrixHeight>5409</MatrixHeight>
</TileMatrix>
<TileMatrix>
<ows:Identifier>16</ows:Identifier>
<ScaleDenominator>4258.3111052967715</ScaleDenominator>
<TopLeftCorner>1.0001964729228033E7 1.5498035270771967E7</TopLeftCorner> <TileWidth>256</TileWidth> <TileHeight>256</TileHeight>
<MatrixWidth>32799</MatrixWidth> <MatrixHeight>10817</MatrixHeight>
</TileMatrix>
<TileMatrix>
<ows:Identifier>17</ows:Identifier>
<ScaleDenominator>2129.1555526483858</ScaleDenominator>
<TopLeftCorner>1.0001964729228033E7 1.5498035270771967E7</TopLeftCorner> <TileWidth>256</TileWidth> <TileHeight>256</TileHeight>
<MatrixWidth>65598</MatrixWidth> <MatrixHeight>21634</MatrixHeight>
</TileMatrix>
<TileMatrix>
<ows:Identifier>18</ows:Identifier>
<ScaleDenominator>1064.5777763241929</ScaleDenominator>
<TopLeftCorner>1.0001964729228033E7 1.5498035270771967E7</TopLeftCorner> <TileWidth>256</TileWidth> <TileHeight>256</TileHeight>
<MatrixWidth>131196</MatrixWidth> <MatrixHeight>43268</MatrixHeight>
</TileMatrix>
<TileMatrix>
<ows:Identifier>19</ows:Identifier>
<ScaleDenominator>532.2888881620964</ScaleDenominator>
<TopLeftCorner>1.0001964729228033E7 1.5498035270771967E7</TopLeftCorner> <TileWidth>256</TileWidth> <TileHeight>256</TileHeight>
<MatrixWidth>262391</MatrixWidth> <MatrixHeight>86535</MatrixHeight>
</TileMatrix>
<TileMatrix>
<ows:Identifier>20</ows:Identifier>
<ScaleDenominator>266.1444440810482</ScaleDenominator>
<TopLeftCorner>1.0001964729228033E7 1.5498035270771967E7</TopLeftCorner> <TileWidth>256</TileWidth> <TileHeight>256</TileHeight>
<MatrixWidth>524782</MatrixWidth> <MatrixHeight>173069</MatrixHeight>
</TileMatrix>
<TileMatrix>
<ows:Identifier>21</ows:Identifier>
<ScaleDenominator>133.0722220405241</ScaleDenominator>
<TopLeftCorner>1.0001964729228033E7 1.5498035270771967E7</TopLeftCorner> <TileWidth>256</TileWidth> <TileHeight>256</TileHeight>
<MatrixWidth>1049564</MatrixWidth> <MatrixHeight>346138</MatrixHeight>
</TileMatrix>
<TileMatrix>
<ows:Identifier>22</ows:Identifier>
<ScaleDenominator>66.53611102026206</ScaleDenominator>
<TopLeftCorner>1.0001964729228033E7 1.5498035270771967E7</TopLeftCorner> <TileWidth>256</TileWidth> <TileHeight>256</TileHeight>
<MatrixWidth>2099128</MatrixWidth> <MatrixHeight>692275</MatrixHeight>
</TileMatrix>
<TileMatrix>
<ows:Identifier>23</ows:Identifier>
<ScaleDenominator>33.26805551013103</ScaleDenominator>
<TopLeftCorner>1.0001964729228033E7 1.5498035270771967E7</TopLeftCorner> <TileWidth>256</TileWidth> <TileHeight>256</TileHeight>
<MatrixWidth>4198256</MatrixWidth> <MatrixHeight>1384550</MatrixHeight>
</TileMatrix>
</TileMatrixSet>
</Contents>
<ServiceMetadataURL xlink:href="https://rajapinta.jarvenpaa.fi/arcgis/rest/services/JarvenpaaRajapinnat/Opaskartta_1989/MapServer/WMTS/1.0.0/WMTSCapabilities.xml" /> </Capabilities>
