{
 "currentVersion": 11.5,
 "serviceDescription": "Ortokuva_2017_Jarvenpaa_WMS",
 "serviceItemId": "f36e484478604af8806d6fd289a8c6c7",
 "name": "JarvenpaaRajapinnat/Ortokuva_2017_Jarvenpaa_WMS",
 "description": "Ortokuva_2017_Jarvenpaa_WMS",
 "extent": {
  "xmin": 25501000,
  "ymin": 6702000,
  "xmax": 25511000,
  "ymax": 6713000,
  "spatialReference": {
   "wkid": 3879,
   "latestWkid": 3879
  }
 },
 "initialExtent": {
  "xmin": 25501000,
  "ymin": 6702000,
  "xmax": 25511000,
  "ymax": 6713000,
  "spatialReference": {
   "wkid": 3879,
   "latestWkid": 3879
  }
 },
 "fullExtent": {
  "xmin": 25501000,
  "ymin": 6702000,
  "xmax": 25511000,
  "ymax": 6713000,
  "spatialReference": {
   "wkid": 3879,
   "latestWkid": 3879
  }
 },
 "sortableFields": "",
 "bandCount": 3,
 "pixelType": "U8",
 "minValues": [
  0,
  0,
  0
 ],
 "maxValues": [
  255,
  255,
  255
 ],
 "meanValues": [
  58.460018003907,
  63.821402039296,
  49.053803413838
 ],
 "stdvValues": [
  59.960412647657,
  60.981310896608,
  50.759413767279
 ],
 "serviceProperties": "Center<\/MosaicMethod>First<\/MosaicOperator>true<\/SortAscending><\/LockImageID><\/TileOrderField>0<\/TileOrderBase>0,000000<\/AvgImageSpacingX>0,000000<\/AvgImageSpacingY>0.0<\/ViewPointX>0.0<\/ViewPointY>0.0<\/ViewPointDefShiftX>0.0<\/ViewPointDefShiftY>None<\/CompressionMethod>75<\/CompressionQuality>0,010000<\/CompressionTolerance>Bilinear<\/SamplingMethod><\/ImageServiceProperties><\/ImageServer>",
 "allowedFields": "",
 "hasMultidimensions": false,
 "pixelSizeX": 0.05,
 "pixelSizeY": 0.05,
 "meanPixelSize": 0.05,
 "datasetFormat": "FGDBR",
 "uncompressedSize": 132000000000,
 "blockWidth": 128,
 "blockHeight": 128,
 "compressionType": "JPEG",
 "bandNames": [
  "Band_1",
  "Band_2",
  "Band_3"
 ],
 "allowCopy": true,
 "allowAnalysis": true,
 "itemAccess": false,
 "inspectionCapabilities": "",
 "minPixelSize": 0,
 "maxPixelSize": 0,
 "copyrightText": "Jarvenpaan kaupunki",
 "serviceDataType": "esriImageServiceDataTypeRGB",
 "serviceSourceType": "esriImageServiceSourceTypeDataset",
 "objectIdField": "",
 "fields": [],
 "capabilities": "Mensuration,Image,Metadata",
 "defaultMosaicMethod": "Center",
 "allowedMosaicMethods": "",
 "sortField": "",
 "sortValue": null,
 "sortAscending": true,
 "mosaicOperator": "First",
 "defaultCompressionQuality": 75,
 "defaultResamplingMethod": "Bilinear",
 "maxImageHeight": 4100,
 "maxImageWidth": 15000,
 "allowRasterFunction": true,
 "rasterFunctionInfos": [
  {
   "name": "None",
   "description": "",
   "help": ""
  }
 ],
 "rasterTypeInfos": [
  {
   "name": "Raster Dataset",
   "description": "Supports all ArcGIS Raster Datasets",
   "help": ""
  }
 ],
 "mensurationCapabilities": "Basic",
 "hasHistograms": true,
 "hasColormap": false,
 "hasRasterAttributeTable": false,
 "minScale": 0,
 "maxScale": 0,
 "exportTilesAllowed": false,
 "supportsStatistics": false,
 "supportsAdvancedQueries": false,
 "editFieldsInfo": null,
 "ownershipBasedAccessControlForRasters": null,
 "allowComputeTiePoints": false,
 "useStandardizedQueries": true,
 "advancedQueryCapabilities": {
  "useStandardizedQueries": true,
  "supportsStatistics": false,
  "supportsOrderBy": false,
  "supportsDistinct": false,
  "supportsPagination": false
 },
 "spatialReference": {
  "wkid": 3879,
  "latestWkid": 3879
 }
}
