{
 "currentVersion": 11.5,
 "cimVersion": "3.5.0",
 "serviceDescription": "Jarvenpaa_opaskartta_vektori_tile_cache",
 "mapName": "Kartta",
 "description": "",
 "copyrightText": "Jarvenpaan kaupunki",
 "supportsDynamicLayers": true,
 "layers": [
  {
   "id": 0,
   "name": "Opaskartta",
   "parentLayerId": -1,
   "defaultVisibility": true,
   "subLayerIds": [
    1,
    25,
    26,
    27,
    28,
    29,
    30,
    31,
    32,
    33
   ],
   "minScale": 0,
   "maxScale": 0,
   "type": "Group Layer",
   "supportsDynamicLegends": false
  },
  {
   "id": 1,
   "name": "opas_tekstit",
   "parentLayerId": 0,
   "defaultVisibility": true,
   "subLayerIds": [
    2,
    4,
    9,
    15,
    17,
    20
   ],
   "minScale": 0,
   "maxScale": 0,
   "type": "Group Layer",
   "supportsDynamicLegends": false
  },
  {
   "id": 2,
   "name": "opas_anno_haku_ruudusto",
   "parentLayerId": 1,
   "defaultVisibility": false,
   "subLayerIds": [
    3
   ],
   "minScale": 0,
   "maxScale": 0,
   "type": "Annotation Layer",
   "geometryType": "esriGeometryPolygon",
   "supportsDynamicLegends": false
  },
  {
   "id": 3,
   "name": "01_hakuruudusto",
   "parentLayerId": 2,
   "defaultVisibility": true,
   "subLayerIds": null,
   "minScale": 0,
   "maxScale": 0,
   "supportsDynamicLegends": false
  },
  {
   "id": 4,
   "name": "opas_anno_tien_numerot",
   "parentLayerId": 1,
   "defaultVisibility": true,
   "subLayerIds": [
    5,
    6,
    7,
    8
   ],
   "minScale": 0,
   "maxScale": 0,
   "type": "Annotation Layer",
   "geometryType": "esriGeometryPolygon",
   "supportsDynamicLegends": false
  },
  {
   "id": 5,
   "name": "01_Tie_nro_paikallistie",
   "parentLayerId": 4,
   "defaultVisibility": true,
   "subLayerIds": null,
   "minScale": 0,
   "maxScale": 0,
   "supportsDynamicLegends": false
  },
  {
   "id": 6,
   "name": "02_Tie_nro_maantie",
   "parentLayerId": 4,
   "defaultVisibility": true,
   "subLayerIds": null,
   "minScale": 0,
   "maxScale": 0,
   "supportsDynamicLegends": false
  },
  {
   "id": 7,
   "name": "03_Tie_nro_valtatie",
   "parentLayerId": 4,
   "defaultVisibility": true,
   "subLayerIds": null,
   "minScale": 0,
   "maxScale": 0,
   "supportsDynamicLegends": false
  },
  {
   "id": 8,
   "name": "04_Tie_nro_moottoritie",
   "parentLayerId": 4,
   "defaultVisibility": true,
   "subLayerIds": null,
   "minScale": 0,
   "maxScale": 0,
   "supportsDynamicLegends": false
  },
  {
   "id": 9,
   "name": "opas_anno_paikannimet",
   "parentLayerId": 1,
   "defaultVisibility": true,
   "subLayerIds": [
    10,
    11,
    12,
    13,
    14
   ],
   "minScale": 0,
   "maxScale": 0,
   "type": "Annotation Layer",
   "geometryType": "esriGeometryPolygon",
   "supportsDynamicLegends": false
  },
  {
   "id": 10,
   "name": "01_paikan_nimi_pieni",
   "parentLayerId": 9,
   "defaultVisibility": true,
   "subLayerIds": null,
   "minScale": 0,
   "maxScale": 0,
   "supportsDynamicLegends": false
  },
  {
   "id": 11,
   "name": "02_paikan_nimi_keskikoko",
   "parentLayerId": 9,
   "defaultVisibility": true,
   "subLayerIds": null,
   "minScale": 0,
   "maxScale": 0,
   "supportsDynamicLegends": false
  },
  {
   "id": 12,
   "name": "03_paikan_nimi_suuri",
   "parentLayerId": 9,
   "defaultVisibility": true,
   "subLayerIds": null,
   "minScale": 0,
   "maxScale": 0,
   "supportsDynamicLegends": false
  },
  {
   "id": 13,
   "name": "05_kaupunginosa",
   "parentLayerId": 9,
   "defaultVisibility": true,
   "subLayerIds": null,
   "minScale": 0,
   "maxScale": 0,
   "supportsDynamicLegends": false
  },
  {
   "id": 14,
   "name": "06_kunnan_nimi",
   "parentLayerId": 9,
   "defaultVisibility": true,
   "subLayerIds": null,
   "minScale": 0,
   "maxScale": 0,
   "supportsDynamicLegends": false
  },
  {
   "id": 15,
   "name": "opas_anno_osoite_numerot",
   "parentLayerId": 1,
   "defaultVisibility": true,
   "subLayerIds": [
    16
   ],
   "minScale": 0,
   "maxScale": 0,
   "type": "Annotation Layer",
   "geometryType": "esriGeometryPolygon",
   "supportsDynamicLegends": false
  },
  {
   "id": 16,
   "name": "01_Osoitenumero",
   "parentLayerId": 15,
   "defaultVisibility": true,
   "subLayerIds": null,
   "minScale": 0,
   "maxScale": 0,
   "supportsDynamicLegends": false
  },
  {
   "id": 17,
   "name": "opas_anno_nimisto",
   "parentLayerId": 1,
   "defaultVisibility": true,
   "subLayerIds": [
    18,
    19
   ],
   "minScale": 0,
   "maxScale": 0,
   "type": "Annotation Layer",
   "geometryType": "esriGeometryPolygon",
   "supportsDynamicLegends": false
  },
  {
   "id": 18,
   "name": "01_rakennukset",
   "parentLayerId": 17,
   "defaultVisibility": true,
   "subLayerIds": null,
   "minScale": 0,
   "maxScale": 0,
   "supportsDynamicLegends": false
  },
  {
   "id": 19,
   "name": "02_nimisto_suuri",
   "parentLayerId": 17,
   "defaultVisibility": true,
   "subLayerIds": null,
   "minScale": 0,
   "maxScale": 0,
   "supportsDynamicLegends": false
  },
  {
   "id": 20,
   "name": "opas_anno_kadun_nimet",
   "parentLayerId": 1,
   "defaultVisibility": true,
   "subLayerIds": [
    21,
    22,
    23,
    24
   ],
   "minScale": 0,
   "maxScale": 0,
   "type": "Annotation Layer",
   "geometryType": "esriGeometryPolygon",
   "supportsDynamicLegends": false
  },
  {
   "id": 21,
   "name": "01_Polku_tai_kuja",
   "parentLayerId": 20,
   "defaultVisibility": true,
   "subLayerIds": null,
   "minScale": 0,
   "maxScale": 0,
   "supportsDynamicLegends": false
  },
  {
   "id": 22,
   "name": "02_Yksityistie",
   "parentLayerId": 20,
   "defaultVisibility": true,
   "subLayerIds": null,
   "minScale": 0,
   "maxScale": 0,
   "supportsDynamicLegends": false
  },
  {
   "id": 23,
   "name": "03_Katu",
   "parentLayerId": 20,
   "defaultVisibility": true,
   "subLayerIds": null,
   "minScale": 0,
   "maxScale": 0,
   "supportsDynamicLegends": false
  },
  {
   "id": 24,
   "name": "04_Katu_suuri",
   "parentLayerId": 20,
   "defaultVisibility": true,
   "subLayerIds": null,
   "minScale": 0,
   "maxScale": 0,
   "supportsDynamicLegends": false
  },
  {
   "id": 26,
   "name": "opas_hakuruudusto_viivat",
   "parentLayerId": 0,
   "defaultVisibility": false,
   "subLayerIds": null,
   "minScale": 0,
   "maxScale": 0,
   "type": "Feature Layer",
   "geometryType": "esriGeometryPolyline",
   "supportsDynamicLegends": true
  }
 ],
 "tables": [],
 "spatialReference": {
  "wkid": 3879,
  "latestWkid": 3879,
  "xyTolerance": 0.001,
  "zTolerance": 0.001,
  "mTolerance": 0.001,
  "falseX": 19876800,
  "falseY": -10002100,
  "xyUnits": 10000,
  "falseZ": -100000,
  "zUnits": 10000,
  "falseM": -100000,
  "mUnits": 10000
 },
 "singleFusedMapCache": true,
 "tileInfo": {
  "rows": 256,
  "cols": 256,
  "dpi": 96,
  "format": "MIXED",
  "compressionQuality": 75,
  "origin": {
   "x": 19876800,
   "y": 10002100
  },
  "spatialReference": {
   "wkid": 3879,
   "latestWkid": 3879,
   "xyTolerance": 0.001,
   "zTolerance": 0.001,
   "mTolerance": 0.001,
   "falseX": 19876800,
   "falseY": -10002100,
   "xyUnits": 4.5026540700157917E8,
   "falseZ": -100000,
   "zUnits": 10000,
   "falseM": -100000,
   "mUnits": 10000
  },
  "lods": [
   {
    "level": 0,
    "resolution": 13107.2,
    "scale": 4.9538924544E7
   },
   {
    "level": 1,
    "resolution": 6553.6,
    "scale": 2.4769462272E7
   },
   {
    "level": 2,
    "resolution": 3276.8,
    "scale": 1.2384731136E7
   },
   {
    "level": 3,
    "resolution": 1638.4,
    "scale": 6192365.568
   },
   {
    "level": 4,
    "resolution": 819.2,
    "scale": 3096182.784
   },
   {
    "level": 5,
    "resolution": 409.6,
    "scale": 1548091.392
   },
   {
    "level": 6,
    "resolution": 204.8,
    "scale": 774045.696
   },
   {
    "level": 7,
    "resolution": 102.4,
    "scale": 387022.848
   },
   {
    "level": 8,
    "resolution": 51.2,
    "scale": 193511.424
   },
   {
    "level": 9,
    "resolution": 25.6,
    "scale": 96755.712
   },
   {
    "level": 10,
    "resolution": 12.8,
    "scale": 48377.856
   },
   {
    "level": 11,
    "resolution": 6.4,
    "scale": 24188.928
   },
   {
    "level": 12,
    "resolution": 3.2,
    "scale": 12094.464
   },
   {
    "level": 13,
    "resolution": 1.6,
    "scale": 6047.232
   },
   {
    "level": 14,
    "resolution": 0.8,
    "scale": 3023.616
   },
   {
    "level": 15,
    "resolution": 0.4,
    "scale": 1511.808
   },
   {
    "level": 16,
    "resolution": 0.2,
    "scale": 755.904
   },
   {
    "level": 17,
    "resolution": 0.1,
    "scale": 377.952
   },
   {
    "level": 18,
    "resolution": 0.05,
    "scale": 188.976
   }
  ]
 },
 "storageInfo": {
  "storageFormat": "esriMapCacheStorageModeCompactV2",
  "packetSize": 128
 },
 "initialExtent": {
  "xmin": 2.5503210594165985E7,
  "ymin": 6705744.9789244365,
  "xmax": 2.5505752418719526E7,
  "ymax": 6707546.529832233,
  "spatialReference": {
   "wkid": 3879,
   "latestWkid": 3879,
   "xyTolerance": 0.001,
   "zTolerance": 0.001,
   "mTolerance": 0.001,
   "falseX": 19876800,
   "falseY": -10002100,
   "xyUnits": 10000,
   "falseZ": -100000,
   "zUnits": 10000,
   "falseM": -100000,
   "mUnits": 10000
  }
 },
 "fullExtent": {
  "xmin": 2.5500837406064317E7,
  "ymin": 6700410.9253124595,
  "xmax": 2.5509895067039043E7,
  "ymax": 6712880.1491352655,
  "spatialReference": {
   "wkid": 3879,
   "latestWkid": 3879,
   "xyTolerance": 0.001,
   "zTolerance": 0.001,
   "mTolerance": 0.001,
   "falseX": 19876800,
   "falseY": -10002100,
   "xyUnits": 10000,
   "falseZ": -100000,
   "zUnits": 10000,
   "falseM": -100000,
   "mUnits": 10000
  }
 },
 "datesInUnknownTimezone": false,
 "minScale": 96755.712,
 "maxScale": 188.976,
 "minLOD": 9,
 "maxLOD": 18,
 "units": "esriMeters",
 "supportedImageFormatTypes": "PNG32,PNG24,PNG,JPG,DIB,TIFF,EMF,PS,PDF,GIF,SVG,SVGZ,BMP",
 "documentInfo": {
  "Title": "Kartta",
  "Author": "",
  "Comments": "",
  "Subject": "",
  "Category": "",
  "Version": "3.1.0",
  "AntialiasingMode": "Normal",
  "TextAntialiasingMode": "Force",
  "Keywords": "Jarvenpaa,opaskartta,karttapalvelu"
 },
 "supportsQueryDomains": true,
 "capabilities": "Map,Query,Data",
 "supportedQueryFormats": "JSON, geoJSON, PBF",
 "exportTilesAllowed": false,
 "referenceScale": 0.0,
 "supportsDatumTransformation": true,
 "floorAwareMapProperties": {
  "defaultFloorFilterSettings": {
   "isEnabled": false
  }
 },
 "archivingInfo": {
  "supportsHistoricMoment": false
 },
 "supportsClipping": true,
 "supportsSpatialFilter": true,
 "supportsTimeRelation": true,
 "supportsQueryDataElements": true,
 "mapUnits": {
  "uwkid": 9001
 },
 "maxSelectionCount": 2000,
 "maxRecordCount": 25000,
 "maxImageHeight": 4096,
 "maxImageWidth": 4096,
 "supportedExtensions": "WMSServer",
 "resampling": false,
 "serviceItemId": "380343ac528f46308b1144a048a8dd86"
}
