{
 "currentVersion": 11.5,
 "serviceDescription": "Jarvenpaa_AGOL/Jarvenpaa_orto_1999_GK25_ecw",
 "serviceItemId": "f367368a18234b07bd70a52def1d2ac5",
 "name": "Jarvenpaa_AGOL/Jarvenpaa_orto_1999_GK25_ecw",
 "description": "",
 "extent": {
  "xmin": 2.5501999992327068E7,
  "ymin": 6703013.012763525,
  "xmax": 2.5509843250201084E7,
  "ymax": 6712999.99523749,
  "spatialReference": {
   "wkid": 3879,
   "latestWkid": 3879
  }
 },
 "initialExtent": {
  "xmin": 2.5501999992327068E7,
  "ymin": 6703013.012763525,
  "xmax": 2.5509843250201084E7,
  "ymax": 6712999.99523749,
  "spatialReference": {
   "wkid": 3879,
   "latestWkid": 3879
  }
 },
 "fullExtent": {
  "xmin": 2.5501999992327068E7,
  "ymin": 6703013.012763525,
  "xmax": 2.5509843250201084E7,
  "ymax": 6712999.99523749,
  "spatialReference": {
   "wkid": 3879,
   "latestWkid": 3879
  }
 },
 "sortableFields": "",
 "bandCount": 3,
 "pixelType": "U8",
 "minValues": [],
 "maxValues": [],
 "meanValues": [],
 "stdvValues": [],
 "serviceProperties": "Center<\/MosaicMethod>First<\/MosaicOperator>true<\/SortAscending><\/LockImageID><\/TileOrderField>0<\/TileOrderBase>0,000000<\/AvgImageSpacingX>0,000000<\/AvgImageSpacingY>0.0<\/ViewPointX>0.0<\/ViewPointY>0.0<\/ViewPointDefShiftX>0.0<\/ViewPointDefShiftY>None<\/CompressionMethod>75<\/CompressionQuality>0,010000<\/CompressionTolerance>Bilinear<\/SamplingMethod><\/ImageServiceProperties><\/ImageServer>",
 "allowedFields": "",
 "hasMultidimensions": false,
 "pixelSizeX": 0.03307298281263217,
 "pixelSizeY": 0.03307298281263181,
 "meanPixelSize": 0.03307298281263199,
 "datasetFormat": "AFR",
 "uncompressedSize": 214834227696,
 "blockWidth": 256,
 "blockHeight": 256,
 "compressionType": "None",
 "bandNames": [
  "Band_1",
  "Band_2",
  "Band_3"
 ],
 "allowCopy": true,
 "allowAnalysis": true,
 "itemAccess": false,
 "inspectionCapabilities": "",
 "minPixelSize": 0,
 "maxPixelSize": 0,
 "copyrightText": "",
 "serviceDataType": "esriImageServiceDataTypeRGB",
 "serviceSourceType": "esriImageServiceSourceTypeDataset",
 "objectIdField": "",
 "fields": [],
 "capabilities": "Image,Metadata,Mensuration",
 "defaultMosaicMethod": "Center",
 "allowedMosaicMethods": "",
 "sortField": "",
 "sortValue": null,
 "sortAscending": true,
 "mosaicOperator": "First",
 "defaultCompressionQuality": 75,
 "defaultResamplingMethod": "Bilinear",
 "maxImageHeight": 4100,
 "maxImageWidth": 15000,
 "allowRasterFunction": true,
 "rasterFunctionInfos": [
  {
   "name": "None",
   "description": "",
   "help": ""
  }
 ],
 "rasterTypeInfos": [
  {
   "name": "Raster Dataset",
   "description": "Supports all ArcGIS Raster Datasets",
   "help": ""
  }
 ],
 "mensurationCapabilities": "Basic",
 "hasHistograms": false,
 "hasColormap": false,
 "hasRasterAttributeTable": false,
 "minScale": 0,
 "maxScale": 0,
 "exportTilesAllowed": false,
 "supportsStatistics": false,
 "supportsAdvancedQueries": false,
 "editFieldsInfo": null,
 "ownershipBasedAccessControlForRasters": null,
 "allowComputeTiePoints": false,
 "useStandardizedQueries": true,
 "advancedQueryCapabilities": {
  "useStandardizedQueries": true,
  "supportsStatistics": false,
  "supportsOrderBy": false,
  "supportsDistinct": false,
  "supportsPagination": false
 },
 "spatialReference": {
  "wkid": 3879,
  "latestWkid": 3879
 }
}
