{
 "currentVersion": 11.5,
 "serviceDescription": "Jarvenpaa_AGOL/Jarvenpaa_orto_2021_ecw",
 "serviceItemId": "83e79552752d436895ea42acf6e21b47",
 "name": "Jarvenpaa_AGOL/Jarvenpaa_orto_2021_ecw",
 "description": "",
 "extent": {
  "xmin": 25502000,
  "ymin": 6703000,
  "xmax": 25510000,
  "ymax": 6712000,
  "spatialReference": {
   "wkid": 3879,
   "latestWkid": 3879
  }
 },
 "initialExtent": {
  "xmin": 25502000,
  "ymin": 6703000,
  "xmax": 25510000,
  "ymax": 6712000,
  "spatialReference": {
   "wkid": 3879,
   "latestWkid": 3879
  }
 },
 "fullExtent": {
  "xmin": 25502000,
  "ymin": 6703000,
  "xmax": 25510000,
  "ymax": 6712000,
  "spatialReference": {
   "wkid": 3879,
   "latestWkid": 3879
  }
 },
 "sortableFields": "",
 "bandCount": 3,
 "pixelType": "U8",
 "minValues": [],
 "maxValues": [],
 "meanValues": [],
 "stdvValues": [],
 "serviceProperties": "Center<\/MosaicMethod>First<\/MosaicOperator>true<\/SortAscending><\/LockImageID><\/TileOrderField>0<\/TileOrderBase>0,000000<\/AvgImageSpacingX>0,000000<\/AvgImageSpacingY>0.0<\/ViewPointX>0.0<\/ViewPointY>0.0<\/ViewPointDefShiftX>0.0<\/ViewPointDefShiftY>None<\/CompressionMethod>75<\/CompressionQuality>0,010000<\/CompressionTolerance>Bilinear<\/SamplingMethod><\/ImageServiceProperties><\/ImageServer>",
 "allowedFields": "",
 "hasMultidimensions": false,
 "pixelSizeX": 0.05,
 "pixelSizeY": 0.05,
 "meanPixelSize": 0.05,
 "datasetFormat": "AFR",
 "uncompressedSize": 86400000000,
 "blockWidth": 256,
 "blockHeight": 256,
 "compressionType": "None",
 "bandNames": [
  "Band_1",
  "Band_2",
  "Band_3"
 ],
 "allowCopy": true,
 "allowAnalysis": true,
 "itemAccess": false,
 "inspectionCapabilities": "",
 "minPixelSize": 0.05,
 "maxPixelSize": 51.2,
 "copyrightText": "",
 "serviceDataType": "esriImageServiceDataTypeRGB",
 "serviceSourceType": "esriImageServiceSourceTypeDataset",
 "objectIdField": "",
 "fields": [],
 "capabilities": "Mensuration,Image,Metadata",
 "defaultMosaicMethod": "Center",
 "allowedMosaicMethods": "",
 "sortField": "",
 "sortValue": null,
 "sortAscending": true,
 "mosaicOperator": "First",
 "defaultCompressionQuality": 75,
 "defaultResamplingMethod": "Bilinear",
 "maxImageHeight": 4100,
 "maxImageWidth": 15000,
 "singleFusedMapCache": true,
 "tileInfo": {
  "rows": 256,
  "cols": 256,
  "dpi": 96,
  "format": "JPEG",
  "compressionQuality": 80,
  "origin": {
   "x": 19876800,
   "y": 10002100
  },
  "spatialReference": {
   "wkid": 3879,
   "latestWkid": 3879
  },
  "lods": [
   {
    "level": 0,
    "resolution": 13107.2,
    "scale": 4.9538924544E7
   },
   {
    "level": 1,
    "resolution": 6553.6,
    "scale": 2.4769462272E7
   },
   {
    "level": 2,
    "resolution": 3276.8,
    "scale": 1.2384731136E7
   },
   {
    "level": 3,
    "resolution": 1638.4,
    "scale": 6192365.568
   },
   {
    "level": 4,
    "resolution": 819.2,
    "scale": 3096182.784
   },
   {
    "level": 5,
    "resolution": 409.6,
    "scale": 1548091.392
   },
   {
    "level": 6,
    "resolution": 204.8,
    "scale": 774045.696
   },
   {
    "level": 7,
    "resolution": 102.4,
    "scale": 387022.848
   },
   {
    "level": 8,
    "resolution": 51.2,
    "scale": 193511.424
   },
   {
    "level": 9,
    "resolution": 25.6,
    "scale": 96755.712
   },
   {
    "level": 10,
    "resolution": 12.8,
    "scale": 48377.856
   },
   {
    "level": 11,
    "resolution": 6.4,
    "scale": 24188.928
   },
   {
    "level": 12,
    "resolution": 3.2,
    "scale": 12094.464
   },
   {
    "level": 13,
    "resolution": 1.6,
    "scale": 6047.232
   },
   {
    "level": 14,
    "resolution": 0.8,
    "scale": 3023.616
   },
   {
    "level": 15,
    "resolution": 0.4,
    "scale": 1511.808
   },
   {
    "level": 16,
    "resolution": 0.2,
    "scale": 755.904
   },
   {
    "level": 17,
    "resolution": 0.1,
    "scale": 377.952
   },
   {
    "level": 18,
    "resolution": 0.05,
    "scale": 188.976
   }
  ]
 },
 "storageInfo": {
  "storageFormat": "esriMapCacheStorageModeCompactV2",
  "packetSize": 128
 },
 "cacheType": "Map",
 "allowRasterFunction": true,
 "rasterFunctionInfos": [
  {
   "name": "None",
   "description": "",
   "help": ""
  }
 ],
 "rasterTypeInfos": [
  {
   "name": "Raster Dataset",
   "description": "Supports all ArcGIS Raster Datasets",
   "help": ""
  }
 ],
 "mensurationCapabilities": "Basic",
 "hasHistograms": false,
 "hasColormap": false,
 "hasRasterAttributeTable": false,
 "minScale": 193511.424,
 "maxScale": 188.976,
 "minLOD": 8,
 "maxLOD": 18,
 "exportTilesAllowed": false,
 "supportsStatistics": false,
 "supportsAdvancedQueries": false,
 "editFieldsInfo": null,
 "ownershipBasedAccessControlForRasters": null,
 "allowComputeTiePoints": false,
 "useStandardizedQueries": true,
 "advancedQueryCapabilities": {
  "useStandardizedQueries": true,
  "supportsStatistics": false,
  "supportsOrderBy": false,
  "supportsDistinct": false,
  "supportsPagination": false
 },
 "spatialReference": {
  "wkid": 3879,
  "latestWkid": 3879
 },
 "resampling": false
}
