{
 "currentVersion": 11.1,
 "cimVersion": "3.1.0",
 "serviceDescription": "Kerava_1974_osoitekartta",
 "mapName": "Karttatasot",
 "description": "",
 "copyrightText": "",
 "supportsDynamicLayers": false,
 "layers": [
  {
   "id": 0,
   "name": "Kerava_1974_osoitekartta_vari.png",
   "parentLayerId": -1,
   "defaultVisibility": true,
   "subLayerIds": null,
   "minScale": 0,
   "maxScale": 0,
   "type": "Raster Layer",
   "supportsDynamicLegends": true
  }
 ],
 "tables": [],
 "spatialReference": {
  "wkid": 3879,
  "latestWkid": 3879,
  "xyTolerance": 0.001,
  "zTolerance": 0.001,
  "mTolerance": 0.001,
  "falseX": 19876800,
  "falseY": -10002100,
  "xyUnits": 4.5026540700157917E8,
  "falseZ": -100000,
  "zUnits": 10000,
  "falseM": -100000,
  "mUnits": 10000
 },
 "singleFusedMapCache": true,
 "tileInfo": {
  "rows": 256,
  "cols": 256,
  "dpi": 96,
  "format": "JPEG",
  "compressionQuality": 80,
  "origin": {
   "x": 19876800,
   "y": 10002100
  },
  "spatialReference": {
   "wkid": 3879,
   "latestWkid": 3879,
   "xyTolerance": 0.001,
   "zTolerance": 0.001,
   "mTolerance": 0.001,
   "falseX": 19876800,
   "falseY": -10002100,
   "xyUnits": 4.5026540700157917E8,
   "falseZ": -100000,
   "zUnits": 10000,
   "falseM": -100000,
   "mUnits": 10000
  },
  "lods": [
   {
    "level": 0,
    "resolution": 13107.2,
    "scale": 4.9538924544E7
   },
   {
    "level": 1,
    "resolution": 6553.6,
    "scale": 2.4769462272E7
   },
   {
    "level": 2,
    "resolution": 3276.8,
    "scale": 1.2384731136E7
   },
   {
    "level": 3,
    "resolution": 1638.4,
    "scale": 6192365.568
   },
   {
    "level": 4,
    "resolution": 819.2,
    "scale": 3096182.784
   },
   {
    "level": 5,
    "resolution": 409.6,
    "scale": 1548091.392
   },
   {
    "level": 6,
    "resolution": 204.8,
    "scale": 774045.696
   },
   {
    "level": 7,
    "resolution": 102.4,
    "scale": 387022.848
   },
   {
    "level": 8,
    "resolution": 51.2,
    "scale": 193511.424
   },
   {
    "level": 9,
    "resolution": 25.6,
    "scale": 96755.712
   },
   {
    "level": 10,
    "resolution": 12.8,
    "scale": 48377.856
   },
   {
    "level": 11,
    "resolution": 6.4,
    "scale": 24188.928
   },
   {
    "level": 12,
    "resolution": 3.2,
    "scale": 12094.464
   },
   {
    "level": 13,
    "resolution": 1.6,
    "scale": 6047.232
   },
   {
    "level": 14,
    "resolution": 0.8,
    "scale": 3023.616
   },
   {
    "level": 15,
    "resolution": 0.4,
    "scale": 1511.808
   },
   {
    "level": 16,
    "resolution": 0.2,
    "scale": 755.904
   },
   {
    "level": 17,
    "resolution": 0.1,
    "scale": 377.952
   },
   {
    "level": 18,
    "resolution": 0.05,
    "scale": 188.976
   }
  ]
 },
 "storageInfo": {
  "storageFormat": "esriMapCacheStorageModeCompactV2",
  "packetSize": 128
 },
 "initialExtent": {
  "xmin": 2.55013264721135E7,
  "ymin": 6696725.626131091,
  "xmax": 2.5509094654316533E7,
  "ymax": 6706441.145562131,
  "spatialReference": {
   "wkid": 3879,
   "latestWkid": 3879,
   "xyTolerance": 0.001,
   "zTolerance": 0.001,
   "mTolerance": 0.001,
   "falseX": 19876800,
   "falseY": -10002100,
   "xyUnits": 4.5026540700157917E8,
   "falseZ": -100000,
   "zUnits": 10000,
   "falseM": -100000,
   "mUnits": 10000
  }
 },
 "fullExtent": {
  "xmin": 2.5501271953240644E7,
  "ymin": 6690177.600818474,
  "xmax": 2.5509149173189394E7,
  "ymax": 6706554.491338627,
  "spatialReference": {
   "wkid": 3879,
   "latestWkid": 3879,
   "xyTolerance": 0.001,
   "zTolerance": 0.001,
   "mTolerance": 0.001,
   "falseX": 19876800,
   "falseY": -10002100,
   "xyUnits": 4.5026540700157917E8,
   "falseZ": -100000,
   "zUnits": 10000,
   "falseM": -100000,
   "mUnits": 10000
  }
 },
 "datesInUnknownTimezone": false,
 "minScale": 96755.712,
 "maxScale": 3023.616,
 "units": "esriMeters",
 "supportedImageFormatTypes": "PNG32,PNG24,PNG,JPG,DIB,TIFF,EMF,PS,PDF,GIF,SVG,SVGZ,BMP",
 "documentInfo": {
  "Title": "",
  "Author": "",
  "Comments": "",
  "Subject": "",
  "Category": "",
  "Version": "10.1",
  "AntialiasingMode": "Best",
  "TextAntialiasingMode": "Force",
  "Keywords": "historia,Kerava,karttapalvelu,osoitekartta,1974"
 },
 "capabilities": "Map,Query,Data",
 "supportedQueryFormats": "JSON, geoJSON, PBF",
 "exportTilesAllowed": false,
 "referenceScale": 0.0,
 "supportsDatumTransformation": true,
 "archivingInfo": {
  "supportsHistoricMoment": false
 },
 "supportsClipping": true,
 "supportsSpatialFilter": true,
 "supportsTimeRelation": true,
 "supportsQueryDataElements": true,
 "mapUnits": {
  "uwkid": 9001
 },
 "maxRecordCount": 1000,
 "maxImageHeight": 4096,
 "maxImageWidth": 4096,
 "supportedExtensions": "KmlServer",
 "serviceItemId": "b8f5ee4f49734c35b7ffb3850b7759af"
}
