{
 "currentVersion": 11.5,
 "serviceDescription": "Maanpinta2024",
 "serviceItemId": "ecddf49c519c455cad3da3d757b9ac55",
 "name": "Maanpinta2024",
 "description": "",
 "extent": {
  "xmin": 2.550211336651215E7,
  "ymin": 6703414.130167323,
  "xmax": 2.5509321209703878E7,
  "ymax": 6711662.738786936,
  "spatialReference": {
   "wkid": 3879,
   "latestWkid": 3879,
   "vcsWkid": 105793,
   "latestVcsWkid": 3900
  }
 },
 "initialExtent": {
  "xmin": 2.550211336651215E7,
  "ymin": 6703414.130167323,
  "xmax": 2.5509321209703878E7,
  "ymax": 6711662.738786936,
  "spatialReference": {
   "wkid": 3879,
   "latestWkid": 3879,
   "vcsWkid": 105793,
   "latestVcsWkid": 3900
  }
 },
 "fullExtent": {
  "xmin": 2.550211336651215E7,
  "ymin": 6703414.130167323,
  "xmax": 2.5509321209703878E7,
  "ymax": 6711662.738786936,
  "spatialReference": {
   "wkid": 3879,
   "latestWkid": 3879,
   "vcsWkid": 105793,
   "latestVcsWkid": 3900
  }
 },
 "sortableFields": "",
 "heightModelInfo": {
  "heightModel": "gravity_related_height",
  "vertCRS": "N2000_height",
  "heightUnit": "meter"
 },
 "bandCount": 3,
 "pixelType": "U8",
 "minValues": [],
 "maxValues": [],
 "meanValues": [],
 "stdvValues": [],
 "serviceProperties": "Center<\/MosaicMethod>First<\/MosaicOperator>true<\/SortAscending><\/LockImageID><\/TileOrderField>0<\/TileOrderBase>0,000000<\/AvgImageSpacingX>0,000000<\/AvgImageSpacingY>0.0<\/ViewPointX>0.0<\/ViewPointY>0.0<\/ViewPointDefShiftX>0.0<\/ViewPointDefShiftY>None<\/CompressionMethod>75<\/CompressionQuality>0,010000<\/CompressionTolerance>Bilinear<\/SamplingMethod><\/ImageServiceProperties><\/ImageServer>",
 "allowedFields": "",
 "hasMultidimensions": false,
 "pixelSizeX": 1.0335307128947513,
 "pixelSizeY": 1.033530712894705,
 "meanPixelSize": 1.0335307128947282,
 "datasetFormat": "AFR",
 "uncompressedSize": 166978482,
 "blockWidth": 256,
 "blockHeight": 256,
 "compressionType": "None",
 "bandNames": [
  "Band_1",
  "Band_2",
  "Band_3"
 ],
 "allowCopy": true,
 "allowAnalysis": true,
 "itemAccess": false,
 "inspectionCapabilities": "",
 "minPixelSize": 0,
 "maxPixelSize": 0,
 "copyrightText": "",
 "serviceDataType": "esriImageServiceDataTypeRGB",
 "serviceSourceType": "esriImageServiceSourceTypeDataset",
 "objectIdField": "",
 "fields": [],
 "capabilities": "Image,Metadata,Mensuration",
 "defaultMosaicMethod": "Center",
 "allowedMosaicMethods": "",
 "sortField": "",
 "sortValue": null,
 "sortAscending": true,
 "mosaicOperator": "First",
 "defaultCompressionQuality": 75,
 "defaultResamplingMethod": "Bilinear",
 "maxImageHeight": 4100,
 "maxImageWidth": 15000,
 "allowRasterFunction": true,
 "rasterFunctionInfos": [
  {
   "name": "None",
   "description": "",
   "help": ""
  }
 ],
 "rasterTypeInfos": [
  {
   "name": "Raster Dataset",
   "description": "Supports all ArcGIS Raster Datasets",
   "help": ""
  }
 ],
 "mensurationCapabilities": "Basic",
 "hasHistograms": false,
 "hasColormap": false,
 "hasRasterAttributeTable": false,
 "minScale": 0,
 "maxScale": 0,
 "exportTilesAllowed": false,
 "supportsStatistics": false,
 "supportsAdvancedQueries": false,
 "editFieldsInfo": null,
 "ownershipBasedAccessControlForRasters": null,
 "allowComputeTiePoints": false,
 "useStandardizedQueries": true,
 "advancedQueryCapabilities": {
  "useStandardizedQueries": true,
  "supportsStatistics": false,
  "supportsOrderBy": false,
  "supportsDistinct": false,
  "supportsPagination": false
 },
 "spatialReference": {
  "wkid": 3879,
  "latestWkid": 3879,
  "vcsWkid": 105793,
  "latestVcsWkid": 3900
 }
}
