View In:
ArcGIS JavaScript
ArcGIS.com Map
ArcGIS Earth
Service Description: JarvenpaaRajapinnat/korkeus_lasda_16062025
Name: JarvenpaaRajapinnat/korkeus_lasda_16062025
Description:
Single Fused Map Cache: true
Tile Info:
- Height: 256
- Width: 256
- DPI: 96
-
Levels of Detail: 19
- Format: LERC
- Compression Quality: 0.0
- LERC Error: 0.1
- Origin: X: 2.4451424E7
Y: 8388608.0
- Spatial Reference: 3879
(3879)
LatestVCSWkid(0)
Storage Info:
- Storage Format: esriMapCacheStorageModeCompactV2
- Packet Size: 128
Extent:
XMin: 2.550211832E7
YMin: 6703425.039
XMax: 2.550930032E7
YMax: 6711651.039
Spatial Reference: 3879
(3879)
VCSWkid(105793)
LatestVCSWkid(3900)
Initial Extent:
XMin: 2.550211832E7
YMin: 6703425.039
XMax: 2.550930032E7
YMax: 6711651.039
Spatial Reference: 3879
(3879)
VCSWkid(105793)
LatestVCSWkid(3900)
Full Extent:
XMin: 2.550211832E7
YMin: 6703425.039
XMax: 2.550930032E7
YMax: 6711651.039
Spatial Reference: 3879
(3879)
VCSWkid(105793)
LatestVCSWkid(3900)
Pixel Size X: 2.0
Pixel Size Y: 2.0
Band Count: 1
Pixel Type: F32
RasterFunction Infos: {"rasterFunctionInfos": [{
"name": "None",
"description": "",
"help": ""
}]}
Mensuration Capabilities: Basic
Inspection Capabilities:
Has Histograms: true
Has Colormap: false
Has Multi Dimensions : false
Rendering Rule:
Min Scale: 3.096182784E7
Max Scale: 472.44
Min LOD: 0
Max LOD: 16
Copyright Text:
Service Data Type: esriImageServiceDataTypeGeneric
Min Values: 33.619998931884766
Max Values: 94.02149963378906
Mean Values: 54.209019494832546
Standard Deviation Values: 9.204576438710685
Object ID Field:
Fields:
None
Default Mosaic Method: Center
Allowed Mosaic Methods:
SortField:
SortValue: null
Mosaic Operator: First
Default Compression Quality: 75
Default Resampling Method: Bilinear
Max Record Count: null
Max Image Height: 4100
Max Image Width: 15000
Max Download Image Count: null
Max Mosaic Image Count: null
Allow Raster Function: true
Allow Copy: true
Allow Analysis: true
Allow Compute TiePoints: false
Supports Statistics: false
Supports Advanced Queries: false
Use StandardizedQueries: true
Raster Type Infos:
Name: Raster Dataset
Description: Supports all ArcGIS Raster Datasets
Help:
Has Raster Attribute Table: false
Edit Fields Info: null
Ownership Based AccessControl For Rasters: null
Child Resources:
Info
Histograms
Statistics
Key Properties
Legend
Raster Function Infos
Supported Operations:
Export Image
Identify
Measure
Compute Histograms
Compute Statistics Histograms
Get Samples
Compute Class Statistics
Query Boundary
Compute Pixel Location
Compute Angles
Validate
Project