View In:
ArcGIS JavaScript
ArcGIS.com Map
ArcGIS Earth
Service Description: Laserrasteri2Ja11
Name: Jarvenpaa_kaupunkimalli/Laserrasteri2Ja11
Description: Laserrasteri2Ja11
Single Fused Map Cache: true
Tile Info:
- Height: 256
- Width: 256
- DPI: 96
-
Levels of Detail: 19
- Format: JPEG
- Compression Quality: 80.0
- LERC Error: NaN
- Origin: X: 1.98768E7
Y: 1.00021E7
- Spatial Reference: 3879
(3879)
LatestVCSWkid(0)
Storage Info:
- Storage Format: esriMapCacheStorageModeCompact
- Packet Size: 128
Extent:
XMin: 2.5501472080000002E7
YMin: 6702848.640000001
XMax: 2.5509872080000002E7
YMax: 6711898.640000001
Spatial Reference: 3879
(3879)
LatestVCSWkid(0)
Initial Extent:
XMin: 2.5501472080000002E7
YMin: 6702848.640000001
XMax: 2.5509872080000002E7
YMax: 6711898.640000001
Spatial Reference: 3879
(3879)
LatestVCSWkid(0)
Full Extent:
XMin: 2.5501472080000002E7
YMin: 6702848.640000001
XMax: 2.5509872080000002E7
YMax: 6711898.640000001
Spatial Reference: 3879
(3879)
LatestVCSWkid(0)
Pixel Size X: 10.0
Pixel Size Y: 10.0
Band Count: 1
Pixel Type: F32
RasterFunction Infos: {"rasterFunctionInfos": [{
"name": "None",
"description": "",
"help": ""
}]}
Mensuration Capabilities: Basic
Inspection Capabilities:
Has Histograms: true
Has Colormap: false
Has Multi Dimensions : false
Rendering Rule:
Min Scale: 4.9538924544E7
Max Scale: 188.976
Copyright Text: Jarvenpaan kaupunki
Service Data Type: esriImageServiceDataTypeGeneric
Min Values: 33.49338912963867
Max Values: 91.56095886230469
Mean Values: 53.53235878818693
Standard Deviation Values: 9.31648950587027
Object ID Field:
Fields:
None
Default Mosaic Method: Center
Allowed Mosaic Methods:
SortField:
SortValue: null
Mosaic Operator: First
Default Compression Quality: 75
Default Resampling Method: Bilinear
Max Record Count: null
Max Image Height: 4100
Max Image Width: 15000
Max Download Image Count: null
Max Mosaic Image Count: null
Allow Raster Function: true
Allow Copy: true
Allow Analysis: true
Allow Compute TiePoints: false
Supports Statistics: false
Supports Advanced Queries: false
Use StandardizedQueries: true
Raster Type Infos:
Name: Raster Dataset
Description: Supports all ArcGIS Raster Datasets
Help:
Has Raster Attribute Table: false
Edit Fields Info: null
Ownership Based AccessControl For Rasters: null
Child Resources:
Info
Histograms
Statistics
Key Properties
Legend
Raster Function Infos
Supported Operations:
Export Image
Identify
Measure
Compute Histograms
Compute Statistics Histograms
Get Samples
Compute Class Statistics
Query Boundary
Compute Pixel Location
Compute Angles
Validate
Project