View In:
ArcGIS JavaScript
ArcGIS.com Map
ArcGIS Earth
ArcGIS Pro
Service Description:
Map Name: JHS_Malli_exp
Legend
All Layers and Tables
Layers:
Description:
Service Item Id: 65340e85dd14441f8191b353b6ecc0ba
Copyright Text:
Spatial Reference:
3879
(3879)
VCSWkid(105793)
LatestVCSWkid(3900)
Single Fused Map Cache: true
Tile Info:
- Height: 256
- Width: 256
- DPI: 96
-
Levels of Detail: 10
-
Level ID: 0
[ Start Tile, End Tile ]
- Resolution: 529.1677250021168
- Scale: 2000000.0000000002
-
Level ID: 1
[ Start Tile, End Tile ]
- Resolution: 264.5838625010584
- Scale: 1000000.0000000001
-
Level ID: 2
[ Start Tile, End Tile ]
- Resolution: 132.2919312505292
- Scale: 500000.00000000006
-
Level ID: 3
[ Start Tile, End Tile ]
- Resolution: 66.1459656252646
- Scale: 250000.00000000003
-
Level ID: 4
[ Start Tile, End Tile ]
- Resolution: 33.0729828126323
- Scale: 125000.00000000001
-
Level ID: 5
[ Start Tile, End Tile ]
- Resolution: 16.53649140631615
- Scale: 62500.00000000001
-
Level ID: 6
[ Start Tile, End Tile ]
- Resolution: 8.268245703158074
- Scale: 31250.000000000004
-
Level ID: 7
[ Start Tile, End Tile ]
- Resolution: 4.134122851579037
- Scale: 15625.000000000002
-
Level ID: 8
[ Start Tile, End Tile ]
- Resolution: 2.0670614257895186
- Scale: 7812.500000000001
-
Level ID: 9
[ Start Tile, End Tile ]
- Resolution: 1.0335307128947593
- Scale: 3906.2500000000005
- Format: MIXED
- Compression Quality: 75.0
- Origin: X: 1.98768E7
Y: 1.00021E7
- Spatial Reference: 3879
(3879)
VCSWkid(105793)
LatestVCSWkid(3900)
Storage Info:
- Storage Format: esriMapCacheStorageModeCompactV2
- Packet Size: 128
Initial Extent:
XMin: 2.5502118534165714E7
YMin: 6703425.499005164
XMax: 2.550930053908962E7
YMax: 6711651.369949093
Spatial Reference: 3879
(3879)
VCSWkid(105793)
LatestVCSWkid(3900)
Full Extent:
XMin: 2.5502118534165714E7
YMin: 6703425.499005164
XMax: 2.550930053908962E7
YMax: 6711651.369949093
Spatial Reference: 3879
(3879)
VCSWkid(105793)
LatestVCSWkid(3900)
Units: esriMeters
Supported Image Format Types:
Document Info:
Supports Dynamic Layers: false
Resampling: true
MaxRecordCount: 0
MaxImageHeight: 0
MaxImageWidth: 0
Supported Query Formats:
Supports Query Data Elements:
Min Scale: 250000
Max Scale: 3906
Min LOD: 3
Max LOD: 9
Child Resources:
Info
Supported Operations:
QueryLegends
Return Updates