View In:
ArcGIS JavaScript
ArcGIS.com Map
ArcGIS Earth
Service Description: JarvenpaaRajapinnat/Keskustan_alueen_ilmakuva_1966
Name: JarvenpaaRajapinnat/Keskustan_alueen_ilmakuva_1966
Description:
Single Fused Map Cache: true
Tile Info:
- Height: 256
- Width: 256
- DPI: 96
-
Levels of Detail: 24
-
Level ID: 0
[ Start Tile, End Tile ]
- Resolution: 78140.349447094
- Scale: 2.953336042094891E8
-
Level ID: 1
[ Start Tile, End Tile ]
- Resolution: 39070.174723547
- Scale: 1.4766680210474455E8
-
Level ID: 2
[ Start Tile, End Tile ]
- Resolution: 19535.0873617735
- Scale: 7.383340105237228E7
-
Level ID: 3
[ Start Tile, End Tile ]
- Resolution: 9767.54368088675
- Scale: 3.691670052618614E7
-
Level ID: 4
[ Start Tile, End Tile ]
- Resolution: 4883.771840443375
- Scale: 1.845835026309307E7
-
Level ID: 5
[ Start Tile, End Tile ]
- Resolution: 2441.8859202216877
- Scale: 9229175.131546535
-
Level ID: 6
[ Start Tile, End Tile ]
- Resolution: 1220.9429601108438
- Scale: 4614587.565773267
-
Level ID: 7
[ Start Tile, End Tile ]
- Resolution: 610.4714800554219
- Scale: 2307293.7828866336
-
Level ID: 8
[ Start Tile, End Tile ]
- Resolution: 305.23574002771096
- Scale: 1153646.8914433168
-
Level ID: 9
[ Start Tile, End Tile ]
- Resolution: 152.61787001385548
- Scale: 576823.4457216584
-
Level ID: 10
[ Start Tile, End Tile ]
- Resolution: 76.30893500692774
- Scale: 288411.7228608292
-
Level ID: 11
[ Start Tile, End Tile ]
- Resolution: 38.15446750346387
- Scale: 144205.8614304146
-
Level ID: 12
[ Start Tile, End Tile ]
- Resolution: 19.077233751731935
- Scale: 72102.9307152073
-
Level ID: 13
[ Start Tile, End Tile ]
- Resolution: 9.538616875865968
- Scale: 36051.46535760365
-
Level ID: 14
[ Start Tile, End Tile ]
- Resolution: 4.769308437932984
- Scale: 18025.732678801825
-
Level ID: 15
[ Start Tile, End Tile ]
- Resolution: 2.384654218966492
- Scale: 9012.866339400913
-
Level ID: 16
[ Start Tile, End Tile ]
- Resolution: 1.192327109483246
- Scale: 4506.433169700456
-
Level ID: 17
[ Start Tile, End Tile ]
- Resolution: 0.596163554741623
- Scale: 2253.216584850228
-
Level ID: 18
[ Start Tile, End Tile ]
- Resolution: 0.2980817773708115
- Scale: 1126.608292425114
-
Level ID: 19
[ Start Tile, End Tile ]
- Resolution: 0.14904088868540574
- Scale: 563.304146212557
-
Level ID: 20
[ Start Tile, End Tile ]
- Resolution: 0.07452044434270287
- Scale: 281.6520731062785
-
Level ID: 21
[ Start Tile, End Tile ]
- Resolution: 0.037260222171351436
- Scale: 140.82603655313926
-
Level ID: 22
[ Start Tile, End Tile ]
- Resolution: 0.018630111085675718
- Scale: 70.41301827656963
-
Level ID: 23
[ Start Tile, End Tile ]
- Resolution: 0.009315055542837859
- Scale: 35.206509138284815
- Format: PNG
- Compression Quality: 0.0
- LERC Error: NaN
- Origin: X: 1.5498035270771967E7
Y: 1.0001964729228033E7
- Spatial Reference: 3879
(3879)
LatestVCSWkid(0)
Storage Info:
- Storage Format: esriMapCacheStorageModeCompactV2
- Packet Size: 128
Extent:
XMin: 2.5504019377635367E7
YMin: 6705763.121411504
XMax: 2.550599617014782E7
YMax: 6707776.871327378
Spatial Reference: 3879
(3879)
LatestVCSWkid(0)
Initial Extent:
XMin: 2.5504019377635367E7
YMin: 6705763.121411504
XMax: 2.550599617014782E7
YMax: 6707776.871327378
Spatial Reference: 3879
(3879)
LatestVCSWkid(0)
Full Extent:
XMin: 2.5504019377635367E7
YMin: 6705763.121411504
XMax: 2.550599617014782E7
YMax: 6707776.871327378
Spatial Reference: 3879
(3879)
LatestVCSWkid(0)
Pixel Size X: 0.17189500108296457
Pixel Size Y: 0.1718949992209673
Band Count: 1
Pixel Type: U8
RasterFunction Infos: {"rasterFunctionInfos": [{
"name": "None",
"description": "",
"help": ""
}]}
Mensuration Capabilities: Basic
Inspection Capabilities:
Has Histograms: true
Has Colormap: false
Has Multi Dimensions : false
Rendering Rule:
Min Scale: 36051.46535760365
Max Scale: 140.82603655313926
Min LOD: 13
Max LOD: 21
Copyright Text:
Service Data Type: esriImageServiceDataTypeGeneric
Min Values: 0
Max Values: 255
Mean Values: 136.76004878324443
Standard Deviation Values: 50.55850713871679
Object ID Field:
Fields:
None
Default Mosaic Method: Center
Allowed Mosaic Methods:
SortField:
SortValue: null
Mosaic Operator: First
Default Compression Quality: 75
Default Resampling Method: Bilinear
Max Record Count: null
Max Image Height: 4100
Max Image Width: 15000
Max Download Image Count: null
Max Mosaic Image Count: null
Allow Raster Function: true
Allow Copy: true
Allow Analysis: true
Allow Compute TiePoints: false
Supports Statistics: false
Supports Advanced Queries: false
Use StandardizedQueries: true
Raster Type Infos:
Name: Raster Dataset
Description: Supports all ArcGIS Raster Datasets
Help:
Has Raster Attribute Table: false
Edit Fields Info: null
Ownership Based AccessControl For Rasters: null
Child Resources:
Info
Histograms
Statistics
Key Properties
Legend
Raster Function Infos
Supported Operations:
Export Image
Identify
Measure
Compute Histograms
Compute Statistics Histograms
Get Samples
Compute Class Statistics
Query Boundary
Compute Pixel Location
Compute Angles
Validate
Project