View In:
ArcGIS JavaScript
ArcGIS.com Map
ArcGIS Earth
ArcGIS Pro
Service Description:
Map Name: Opaskartta_1989
Legend
All Layers and Tables
Dynamic Legend
Dynamic All Layers
Layers:
Description:
Service Item Id: 8e5c69ab94a5450b849906a449f6d076
Copyright Text:
Spatial Reference:
3879
(3879)
LatestVCSWkid(0)
Single Fused Map Cache: true
Tile Info:
- Height: 256.0
- Width: 256.0
- DPI: 96.0
-
Levels of Detail: 24
-
Level ID: 0
[ Start Tile, End Tile ]
- Resolution: 78140.349447094
- Scale: 2.953336042094891E8
-
Level ID: 1
[ Start Tile, End Tile ]
- Resolution: 39070.174723547
- Scale: 1.4766680210474455E8
-
Level ID: 2
[ Start Tile, End Tile ]
- Resolution: 19535.0873617735
- Scale: 7.383340105237228E7
-
Level ID: 3
[ Start Tile, End Tile ]
- Resolution: 9767.54368088675
- Scale: 3.691670052618614E7
-
Level ID: 4
[ Start Tile, End Tile ]
- Resolution: 4883.771840443375
- Scale: 1.845835026309307E7
-
Level ID: 5
[ Start Tile, End Tile ]
- Resolution: 2441.8859202216877
- Scale: 9229175.131546535
-
Level ID: 6
[ Start Tile, End Tile ]
- Resolution: 1220.9429601108438
- Scale: 4614587.565773267
-
Level ID: 7
[ Start Tile, End Tile ]
- Resolution: 610.4714800554219
- Scale: 2307293.7828866336
-
Level ID: 8
[ Start Tile, End Tile ]
- Resolution: 305.23574002771096
- Scale: 1153646.8914433168
-
Level ID: 9
[ Start Tile, End Tile ]
- Resolution: 152.61787001385548
- Scale: 576823.4457216584
-
Level ID: 10
[ Start Tile, End Tile ]
- Resolution: 76.30893500692774
- Scale: 288411.7228608292
-
Level ID: 11
[ Start Tile, End Tile ]
- Resolution: 38.15446750346387
- Scale: 144205.8614304146
-
Level ID: 12
[ Start Tile, End Tile ]
- Resolution: 19.077233751731935
- Scale: 72102.9307152073
-
Level ID: 13
[ Start Tile, End Tile ]
- Resolution: 9.538616875865968
- Scale: 36051.46535760365
-
Level ID: 14
[ Start Tile, End Tile ]
- Resolution: 4.769308437932984
- Scale: 18025.732678801825
-
Level ID: 15
[ Start Tile, End Tile ]
- Resolution: 2.384654218966492
- Scale: 9012.866339400913
-
Level ID: 16
[ Start Tile, End Tile ]
- Resolution: 1.192327109483246
- Scale: 4506.433169700456
-
Level ID: 17
[ Start Tile, End Tile ]
- Resolution: 0.596163554741623
- Scale: 2253.216584850228
-
Level ID: 18
[ Start Tile, End Tile ]
- Resolution: 0.2980817773708115
- Scale: 1126.608292425114
-
Level ID: 19
[ Start Tile, End Tile ]
- Resolution: 0.14904088868540574
- Scale: 563.304146212557
-
Level ID: 20
[ Start Tile, End Tile ]
- Resolution: 0.07452044434270287
- Scale: 281.6520731062785
-
Level ID: 21
[ Start Tile, End Tile ]
- Resolution: 0.037260222171351436
- Scale: 140.82603655313926
-
Level ID: 22
[ Start Tile, End Tile ]
- Resolution: 0.018630111085675718
- Scale: 70.41301827656963
-
Level ID: 23
[ Start Tile, End Tile ]
- Resolution: 0.009315055542837859
- Scale: 35.206509138284815
- Format: Mixed
- Compression Quality: 75.0
- Origin: X: 1.5498035270771967E7
Y: 1.0001964729228033E7
- Spatial Reference: 3879
(3879)
LatestVCSWkid(0)
Storage Info:
- Storage Format: esriMapCacheStorageModeCompactV2
- Packet Size: 128
Initial Extent:
XMin: 2.5491888985946976E7
YMin: 6699212.759730691
XMax: 2.552265295002713E7
YMax: 6712576.395716166
Spatial Reference: 3879
(3879)
LatestVCSWkid(0)
Full Extent:
XMin: 2.5500204987781893E7
YMin: 6700292.95382649
XMax: 2.550942321605584E7
YMax: 6712441.713813284
Spatial Reference: 3879
(3879)
LatestVCSWkid(0)
Units: esriMeters
Supported Image Format Types: PNG32,PNG24,PNG,JPG,DIB,TIFF,EMF,PS,PDF,GIF,SVG,SVGZ,BMP
Document Info:
Title: Opaskartta_1989
Author:
Comments:
Subject:
Category:
Keywords: Jarvenpaa,Järvenpää,opaskartta
AntialiasingMode: Fast
TextAntialiasingMode: Force
Supports Dynamic Layers: true
MaxRecordCount: 2000
MaxSelectionCount: 2000
MaxImageHeight: 4096
MaxImageWidth: 4096
Supported Query Formats: JSON, geoJSON, PBF
Supports Query Data Elements: true
Min Scale: 144205.8614304146
Max Scale: 281.6520731062785
Min LOD: 11
Max LOD: 20
Supports Datum Transformation: true
Child Resources:
Info
Dynamic Layer
Supported Operations:
Export Map
Identify
QueryLegends
QueryDomains
Find
Return Updates