View In:
ArcGIS JavaScript
ArcGIS.com Map
ArcGIS Earth
Service Description: Ortokuva_2017_Jarvenpaa_WMS
Name: JarvenpaaRajapinnat/Ortokuva_2017_Jarvenpaa_WMS
Description: Ortokuva_2017_Jarvenpaa_WMS
Single Fused Map Cache: false
Extent:
XMin: 2.5501E7
YMin: 6702000.0
XMax: 2.5511E7
YMax: 6713000.0
Spatial Reference: 3879
(3879)
LatestVCSWkid(0)
Initial Extent:
XMin: 2.5501E7
YMin: 6702000.0
XMax: 2.5511E7
YMax: 6713000.0
Spatial Reference: 3879
(3879)
LatestVCSWkid(0)
Full Extent:
XMin: 2.5501E7
YMin: 6702000.0
XMax: 2.5511E7
YMax: 6713000.0
Spatial Reference: 3879
(3879)
LatestVCSWkid(0)
Pixel Size X: 0.05
Pixel Size Y: 0.05
Band Count: 3
Pixel Type: U8
RasterFunction Infos: {"rasterFunctionInfos": [{
"name": "None",
"description": "",
"help": ""
}]}
Mensuration Capabilities: Basic
Inspection Capabilities:
Has Histograms: true
Has Colormap: false
Has Multi Dimensions : false
Rendering Rule:
Min Scale: 0
Max Scale: 0
Copyright Text: Jarvenpaan kaupunki
Service Data Type: esriImageServiceDataTypeRGB
Min Values: 0, 0, 0
Max Values: 255, 255, 255
Mean Values: 58.460018003907, 63.821402039296, 49.053803413838
Standard Deviation Values: 59.960412647657, 60.981310896608, 50.759413767279
Object ID Field:
Fields:
None
Default Mosaic Method: Center
Allowed Mosaic Methods:
SortField:
SortValue: null
Mosaic Operator: First
Default Compression Quality: 75
Default Resampling Method: Bilinear
Max Record Count: null
Max Image Height: 4100
Max Image Width: 15000
Max Download Image Count: null
Max Mosaic Image Count: null
Allow Raster Function: true
Allow Copy: true
Allow Analysis: true
Allow Compute TiePoints: false
Supports Statistics: false
Supports Advanced Queries: false
Use StandardizedQueries: true
Raster Type Infos:
Name: Raster Dataset
Description: Supports all ArcGIS Raster Datasets
Help:
Has Raster Attribute Table: false
Edit Fields Info: null
Ownership Based AccessControl For Rasters: null
Child Resources:
Info
Histograms
Statistics
Key Properties
Legend
Raster Function Infos
Supported Operations:
Export Image
Identify
Measure
Compute Histograms
Compute Statistics Histograms
Get Samples
Compute Class Statistics
Query Boundary
Compute Pixel Location
Compute Angles
Validate
Project