View In:
ArcGIS JavaScript
ArcGIS.com Map
ArcGIS Earth
Service Description: Jarvenpaa_AGOL/Jarvenpaa_orto_2021_ecw
Name: Jarvenpaa_AGOL/Jarvenpaa_orto_2021_ecw
Description:
Single Fused Map Cache: true
Tile Info:
- Height: 256
- Width: 256
- DPI: 96
-
Levels of Detail: 19
- Format: JPEG
- Compression Quality: 80.0
- LERC Error: NaN
- Origin: X: 1.98768E7
Y: 1.00021E7
- Spatial Reference: 3879
(3879)
LatestVCSWkid(0)
Storage Info:
- Storage Format: esriMapCacheStorageModeCompactV2
- Packet Size: 128
Extent:
XMin: 2.5502E7
YMin: 6703000.0
XMax: 2.551E7
YMax: 6712000.0
Spatial Reference: 3879
(3879)
LatestVCSWkid(0)
Initial Extent:
XMin: 2.5502E7
YMin: 6703000.0
XMax: 2.551E7
YMax: 6712000.0
Spatial Reference: 3879
(3879)
LatestVCSWkid(0)
Full Extent:
XMin: 2.5502E7
YMin: 6703000.0
XMax: 2.551E7
YMax: 6712000.0
Spatial Reference: 3879
(3879)
LatestVCSWkid(0)
Pixel Size X: 0.05
Pixel Size Y: 0.05
Band Count: 3
Pixel Type: U8
RasterFunction Infos: {"rasterFunctionInfos": [{
"name": "None",
"description": "",
"help": ""
}]}
Mensuration Capabilities: Basic
Inspection Capabilities:
Has Histograms: false
Has Colormap: false
Has Multi Dimensions : false
Rendering Rule:
Min Scale: 193511.424
Max Scale: 188.976
Min LOD: 8
Max LOD: 18
Resampling: false
Copyright Text:
Service Data Type: esriImageServiceDataTypeRGB
Min Values: N/A
Max Values: N/A
Mean Values: N/A
Standard Deviation Values: N/A
Object ID Field:
Fields:
None
Default Mosaic Method: Center
Allowed Mosaic Methods:
SortField:
SortValue: null
Mosaic Operator: First
Default Compression Quality: 75
Default Resampling Method: Bilinear
Max Record Count: null
Max Image Height: 4100
Max Image Width: 15000
Max Download Image Count: null
Max Mosaic Image Count: null
Allow Raster Function: true
Allow Copy: true
Allow Analysis: true
Allow Compute TiePoints: false
Supports Statistics: false
Supports Advanced Queries: false
Use StandardizedQueries: true
Raster Type Infos:
Name: Raster Dataset
Description: Supports all ArcGIS Raster Datasets
Help:
Has Raster Attribute Table: false
Edit Fields Info: null
Ownership Based AccessControl For Rasters: null
Child Resources:
Info
Statistics
Key Properties
Legend
Raster Function Infos
Supported Operations:
Export Image
Identify
Measure
Compute Histograms
Compute Statistics Histograms
Get Samples
Compute Class Statistics
Query Boundary
Compute Pixel Location
Compute Angles
Validate
Project