View In:
ArcGIS JavaScript
ArcGIS.com Map
ArcGIS Earth
Service Description: Maanpinta2024
Name: Maanpinta2024
Description:
Single Fused Map Cache: false
Extent:
XMin: 2.550211336651215E7
YMin: 6703414.130167323
XMax: 2.5509321209703878E7
YMax: 6711662.738786936
Spatial Reference: 3879
(3879)
VCSWkid(105793)
LatestVCSWkid(3900)
Initial Extent:
XMin: 2.550211336651215E7
YMin: 6703414.130167323
XMax: 2.5509321209703878E7
YMax: 6711662.738786936
Spatial Reference: 3879
(3879)
VCSWkid(105793)
LatestVCSWkid(3900)
Full Extent:
XMin: 2.550211336651215E7
YMin: 6703414.130167323
XMax: 2.5509321209703878E7
YMax: 6711662.738786936
Spatial Reference: 3879
(3879)
VCSWkid(105793)
LatestVCSWkid(3900)
Pixel Size X: 1.0335307128947513
Pixel Size Y: 1.033530712894705
Band Count: 3
Pixel Type: U8
RasterFunction Infos: {"rasterFunctionInfos": [{
"name": "None",
"description": "",
"help": ""
}]}
Mensuration Capabilities: Basic
Inspection Capabilities:
Has Histograms: false
Has Colormap: false
Has Multi Dimensions : false
Rendering Rule:
Min Scale: 0
Max Scale: 0
Copyright Text:
Service Data Type: esriImageServiceDataTypeRGB
Min Values: N/A
Max Values: N/A
Mean Values: N/A
Standard Deviation Values: N/A
Object ID Field:
Fields:
None
Default Mosaic Method: Center
Allowed Mosaic Methods:
SortField:
SortValue: null
Mosaic Operator: First
Default Compression Quality: 75
Default Resampling Method: Bilinear
Max Record Count: null
Max Image Height: 4100
Max Image Width: 15000
Max Download Image Count: null
Max Mosaic Image Count: null
Allow Raster Function: true
Allow Copy: true
Allow Analysis: true
Allow Compute TiePoints: false
Supports Statistics: false
Supports Advanced Queries: false
Use StandardizedQueries: true
Raster Type Infos:
Name: Raster Dataset
Description: Supports all ArcGIS Raster Datasets
Help:
Has Raster Attribute Table: false
Edit Fields Info: null
Ownership Based AccessControl For Rasters: null
Child Resources:
Info
Statistics
Key Properties
Legend
Raster Function Infos
Supported Operations:
Export Image
Identify
Measure
Compute Histograms
Compute Statistics Histograms
Get Samples
Compute Class Statistics
Query Boundary
Compute Pixel Location
Compute Angles
Validate
Project